BEGIN:VCALENDAR
VERSION:2.0
PRODID:-//ProcureWise - ECPv6.8.2.1//NONSGML v1.0//EN
CALSCALE:GREGORIAN
METHOD:PUBLISH
X-WR-CALNAME:ProcureWise
X-ORIGINAL-URL:https://procurewise.pl
X-WR-CALDESC:Events for ProcureWise
REFRESH-INTERVAL;VALUE=DURATION:PT1H
X-Robots-Tag:noindex
X-PUBLISHED-TTL:PT1H
BEGIN:VTIMEZONE
TZID:Europe/Warsaw
BEGIN:DAYLIGHT
TZOFFSETFROM:+0100
TZOFFSETTO:+0200
TZNAME:CEST
DTSTART:20260329T010000
END:DAYLIGHT
BEGIN:STANDARD
TZOFFSETFROM:+0200
TZOFFSETTO:+0100
TZNAME:CET
DTSTART:20261025T010000
END:STANDARD
END:VTIMEZONE
BEGIN:VEVENT
DTSTART;VALUE=DATE:20260528
DTEND;VALUE=DATE:20260529
DTSTAMP:20260421T181146
CREATED:20241023T114112Z
LAST-MODIFIED:20251228T171458Z
UID:22989825-1779926400-1780012799@procurewise.pl
SUMMARY:Founders Mind XI
DESCRIPTION:Founders Mind XI is a unique conference for founders\, leaders\, and people building technology-driven and innovative businesses. The event will take place on May 28\, 2026\, in Warsaw\, at the prestigious Kinoteka in the Palace of Culture and Science. \nThis is a must-attend event for those who want to think bigger\, act more effectively\, and grow their companies consciously—without burnout or operational chaos. Founders Mind XI combines inspiring talks\, hands-on knowledge\, and high-quality business networking. \nSpeakers\nThe stage will feature experienced business practitioners\, founders\, and investors\, including: \n\nAnna Lankauf – ex Callstack\, Business Angel\nAleksandra Pędraszewska – Vastpoint\nWojciech Wolny – EUVIC\nAleksandra Raźniak-Kowalska – Muffinsoft\n\nThree Core Stages of the Event\nThe conference is built around three key thematic stages that together create a complete narrative for founders and organizations in growth mode: \nSTAGE I – The Founder’s Mind\nThe psychology of a leader that can either drive a company forward or derail it. Mental resilience\, decision-making\, ambition vs. burnout\, cognitive traps\, and long-term energy for leadership. \nSTAGE II – Operational Excellence\nStrategy\, processes\, and execution that work without micromanagement—so the company can continue to grow even when the founder steps back. \nSTAGE III – AI Engine\nArtificial intelligence in action: agents\, automation\, frameworks\, and prompts that genuinely reduce time and costs while accelerating business growth. \nFounders Mind XI is more than a conference—it’s an intensive experience for founders who want to scale their businesses in a modern\, sustainable\, and future-ready way.
URL:https://procurewise.pl/en/event/founders-mind/
LOCATION:Kinoteka PKiN\, pl. Defilad 1\, Warszawa\, 00-901\, Poland
CATEGORIES:e-Commerce,Ekonomia
ATTACH;FMTTYPE=image/png:https://procurewise.pl/wp-content/uploads/2024/10/Grafika-wydarzenia-47-1.png
END:VEVENT
BEGIN:VEVENT
DTSTART;VALUE=DATE:20261020
DTEND;VALUE=DATE:20261022
DTSTAMP:20260421T181146
CREATED:20260218T105225Z
LAST-MODIFIED:20260218T105225Z
UID:22993425-1792454400-1792627199@procurewise.pl
SUMMARY:XII Polish Entrepreneurship Congress
DESCRIPTION:The Polish Entrepreneurship Congress is the largest traveling business and economic event in Poland\, bringing together top representatives of business\, government administration\, academia\, and local authorities. \nThe 12th edition will take place in Wrocław and once again serve as a key platform for dialogue on the future of the Polish and European economy. \nThe event is organized by Polska Agencja Przedsiębiorczości. \nAbout the Congress\nFor years\, the Congress has created a space for meaningful cooperation between business\, public administration\, and science. Thanks to the participation of leaders holding top executive positions\, discussions during the Congress often translate into practical initiatives and long-term partnerships. \nKey topics include: \n\nEconomic development\nInvestments and innovation\nBusiness–administration cooperation\nCommercialization of research and projects\nChallenges facing the Polish and global economy\n\nProgram Highlights\n🔹 Official Opening\nThe Congress will officially open on October 20 at 10:00 AM with a ceremonial inauguration that sets the tone for the entire event. \n🔹 Panel Discussions\nInspiring conferences and panels such as: \n\n“Success in High Heels”\n“The Right to Do Business”\n“Medicine of Tomorrow”\n\nPanels will take place on October 20–21 between 11:00 AM and 4:00 PM. \n🔹 Exhibition & Career Zone\nCompanies\, institutions\, and universities will present their offers in the exhibition area. The accompanying job fair will allow participants to explore career opportunities and meet potential employers. \n🔹 Gala Evening\nThe Congress will conclude with a prestigious gala event featuring performances by: \n\nAnia Dąbrowska\nCzesław Mozil\n\nScale of the Event\nThe previous edition gathered: \n\n30+ discussion panels\nAround 200 speakers\nNearly 3\,000 participants\nAlmost 200 awarded organizations\nTens of thousands of online viewers\n\nAmong previous guests and supporters were: \n\nAndrzej Duda – President of Poland\nSzymon Hołownia – Marshal of the Sejm\nKrzysztof Gawkowski – Deputy Prime Minister\, Minister of Digital Affairs\n\nWhy Attend?\n✔ Direct access to top-level decision-makers\n✔ High-level networking opportunities\n✔ Up-to-date economic and regulatory discussions\n✔ Cross-sector collaboration between business\, science\, and government \nThe Polish Entrepreneurship Congress has consistently influenced the activities of entrepreneurs\, researchers\, and local governments\, supporting innovation\, investment\, and sustainable economic growth.
URL:https://procurewise.pl/en/event/polish-entrepreneurship-congress/
LOCATION:Hala Stulecia\, Wystawowa 1\, Wrocław\, 51-618\, Poland
CATEGORIES:Ekonomia,Managment,Networking
ATTACH;FMTTYPE=image/png:https://procurewise.pl/wp-content/uploads/2026/02/Grafika-wydarzenia-34.png
END:VEVENT
END:VCALENDAR