BEGIN:VCALENDAR
VERSION:2.0
PRODID:-//ProcureWise - ECPv6.8.2.1//NONSGML v1.0//EN
CALSCALE:GREGORIAN
METHOD:PUBLISH
X-WR-CALNAME:ProcureWise
X-ORIGINAL-URL:https://procurewise.pl
X-WR-CALDESC:Events for ProcureWise
REFRESH-INTERVAL;VALUE=DURATION:PT1H
X-Robots-Tag:noindex
X-PUBLISHED-TTL:PT1H
BEGIN:VTIMEZONE
TZID:Europe/Warsaw
BEGIN:DAYLIGHT
TZOFFSETFROM:+0100
TZOFFSETTO:+0200
TZNAME:CEST
DTSTART:20260329T010000
END:DAYLIGHT
BEGIN:STANDARD
TZOFFSETFROM:+0200
TZOFFSETTO:+0100
TZNAME:CET
DTSTART:20261025T010000
END:STANDARD
END:VTIMEZONE
BEGIN:VEVENT
DTSTART;VALUE=DATE:20260422
DTEND;VALUE=DATE:20260425
DTSTAMP:20260421T193003
CREATED:20231113T151759Z
LAST-MODIFIED:20251225T072512Z
UID:635-1776816000-1777075199@procurewise.pl
SUMMARY:European Economic Congress 2026
DESCRIPTION:The European Economic Congress (EEC 2026) is one of Central Europe’s most important business and policy debate platforms. The 18th edition will take place on 22–24 April 2026 in Katowice\, Poland\, hosted at the International Congress Centre (MCK) and the iconic Spodek arena. The theme for 2026 is “The Power of Dialogue”\, highlighting the need for cooperation and open exchange in an era of economic\, geopolitical and technological uncertainty. \nEEC brings together business leaders\, public-sector decision makers\, academics\, experts and media for three days of discussions\, meetings and networking\, focused on how to build a competitive\, secure and sustainable economy. \nThe programme revolves around six key thematic streams: \n\nEurope Under Pressure – geopolitics\, EU solidarity\, Europe’s role amid global rivalry\nSovereignty & Competitiveness – reducing dependencies\, resilient supply chains\, nearshoring\, innovation\nResilience & Security – infrastructure\, defence\, crisis response\, cybersecurity and energy security\nEnergy\, Transformation & Investment – renewables\, nuclear\, grids\, storage\, costs and industrial competitiveness\nDigitalisation & Tomorrow’s Technologies – data as fuel\, AI\, automation\, robotics\, space technologies\nPeople\, Development & Balance – future skills\, labour market shifts\, demographics\, wellbeing and cohesion\n\nA key lead-in to the Congress is the EEC 2026 Prologue\, scheduled for 9 February 2026 at Sheraton Grand Warsaw Hotel\, setting the stage for the main April event. \nEEC 2026 is designed to turn dialogue into action—supporting partnerships\, better decisions and forward-looking strategies. Registration is expected to open in February 2026\, and organisers invite the community to contribute ideas for agenda topics and speakers.
URL:https://procurewise.pl/en/event/european-economic-congress/
LOCATION:Międzynarodowe Centrum Kongresowe w Katowicach\, plac Sławika i Antalla 1\, Katowice\, 40-163
CATEGORIES:Geopolityka,Makroekonomia
ATTACH;FMTTYPE=image/jpeg:https://procurewise.pl/wp-content/uploads/2023/11/Grafika-wydarzenia-8.jpg
END:VEVENT
BEGIN:VEVENT
DTSTART;VALUE=DATE:20260610
DTEND;VALUE=DATE:20260611
DTSTAMP:20260421T193003
CREATED:20250325T144835Z
LAST-MODIFIED:20260419T184036Z
UID:22992288-1781049600-1781135999@procurewise.pl
SUMMARY:Procurement 2026
DESCRIPTION:Zakupy 2026 is a leading conference for procurement leaders\, taking place on June 10\, 2026\, in Warsaw. \nModern organizations no longer view procurement solely as a cost-optimization function. Instead\, it is becoming the strategic core of the business—where data\, relationships\, and key decisions intersect to drive growth in an increasingly volatile market environment. \nThis one-day\, high-impact event is designed for leaders who want not only to respond to change\, but to actively shape it. The conference focuses on building organizational resilience and creating long-term value through smarter\, data-driven procurement strategies. \nThe agenda is built around real-life case studies and practical insights across three key areas: \n\nAnalytics – how to build effective spend analytics that deliver measurable savings and faster decision-making\nAutomation – how to move beyond Excel and implement eProcurement solutions that truly support teams\nInfluence – how to position procurement as a strategic partner to finance and operations\n\nA unique highlight of this year’s edition is the interactive simulation game “Collectors\,” allowing participants to practice decision-making under pressure and uncertainty—mirroring real-world procurement challenges. \nThe event will conclude with exclusive roundtable sessions\, offering space for in-depth discussions on topics such as procurement centralization\, talent attraction\, and the role of AI in data analysis. \nJoin a community of forward-thinking leaders and help shape the future of procurement as a true strategic function.
URL:https://procurewise.pl/en/event/zakupy/
LOCATION:Warszawa\, Warszawa\, 00-901\, Poland
CATEGORIES:Cyfryzacja,ESG,Geopolityka,Procurement,Zakupy
ATTACH;FMTTYPE=image/jpeg:https://procurewise.pl/wp-content/uploads/2025/03/Grafika-wydarzenia-1-2.jpg
END:VEVENT
END:VCALENDAR