BEGIN:VCALENDAR
VERSION:2.0
PRODID:-//ProcureWise - ECPv6.8.2.1//NONSGML v1.0//EN
CALSCALE:GREGORIAN
METHOD:PUBLISH
X-ORIGINAL-URL:https://procurewise.pl
X-WR-CALDESC:Events for ProcureWise
REFRESH-INTERVAL;VALUE=DURATION:PT1H
X-Robots-Tag:noindex
X-PUBLISHED-TTL:PT1H
BEGIN:VTIMEZONE
TZID:Europe/Warsaw
BEGIN:DAYLIGHT
TZOFFSETFROM:+0100
TZOFFSETTO:+0200
TZNAME:CEST
DTSTART:20260329T010000
END:DAYLIGHT
BEGIN:STANDARD
TZOFFSETFROM:+0200
TZOFFSETTO:+0100
TZNAME:CET
DTSTART:20261025T010000
END:STANDARD
END:VTIMEZONE
BEGIN:VEVENT
DTSTART;VALUE=DATE:20260611
DTEND;VALUE=DATE:20260612
DTSTAMP:20260421T193015
CREATED:20260421T163845Z
LAST-MODIFIED:20260421T163907Z
UID:22993734-1781136000-1781222399@procurewise.pl
SUMMARY:Analytics and Data in HR
DESCRIPTION:The “HR Analytics & Data” conference is designed for HR leaders and professionals and will take place on June 11\, 2026\, in Warsaw at Polonia Palace Hotel. \nModern HR is evolving beyond traditional operational roles to become a true strategic business partner. Data\, analytics\, and artificial intelligence now play a critical role in shaping workforce decisions\, planning costs\, and developing talent. \nThis conference focuses on the practical application of People Analytics and HR Data Management—an approach that integrates multiple HR functions around organizational performance\, employee engagement\, and cost optimization. Participants will explore the latest analytical methods\, predictive capabilities\, and the use of AI in HR processes. \nThe agenda is built around real-life case studies and actionable insights\, including: \n\nbuilding a People Analytics strategy and aligning HR metrics with executive decision-making\,\nforecasting workforce needs\, attrition\, and labor costs\,\nautomating HR processes using AI and measuring implementation effectiveness\,\ndeveloping predictive models for employee retention\,\nidentifying the key skills HR teams need in the era of data and AI.\n\nThe event is aimed at professionals who want to strengthen HR’s impact on business outcomes and make data-driven decisions rather than relying on intuition. \nThis is a must-attend conference for those looking to analyze\, predict\, and influence organizational success through smarter people management.
URL:https://procurewise.pl/en/event/analytics-and-data-in-hr/
LOCATION:Polonia Palace Hotel\, Al. Jerozolimskie 45\, Warszawa\, 00-692
CATEGORIES:AI,Cyfryzacja,Dane,HR,Strategia
ATTACH;FMTTYPE=image/jpeg:https://procurewise.pl/wp-content/uploads/2026/04/Grafika-wydarzenia-5.jpg
END:VEVENT
BEGIN:VEVENT
DTSTART;VALUE=DATE:20260915
DTEND;VALUE=DATE:20260917
DTSTAMP:20260421T193015
CREATED:20250328T094733Z
LAST-MODIFIED:20251228T185409Z
UID:22992329-1789430400-1789603199@procurewise.pl
SUMMARY:HR Summit 2026
DESCRIPTION:HR Summit 2026 to 13. edycja prestiżowego kongresu HR\, organizowanego przez Puls Biznesu\, która odbędzie się 15–16 września 2026 roku w Warszawie (dokładna lokalizacja zostanie ogłoszona w późniejszym terminie). \nRok 2026 będzie momentem strategicznego przełomu dla działów HR. Czas eksperymentów dobiega końca – organizacje nie pytają już czy wdrażać nowe technologie i modele zarządzania\, lecz jak robić to skutecznie i mierzalnie. Odpowiedzią na te wyzwania jest motyw przewodni wydarzenia: „Harmonized Resources – nowa strategia HR na erę AI i transparentności”. \nHR Summit 2026 koncentruje się na strategicznej synchronizacji technologii\, danych i kompetencji\, tak aby HR realnie wspierał wyniki biznesowe i przygotował organizacje na rok 2027. To kluczowe spotkanie dla CHRO\, Dyrektorów HR i liderów transformacji organizacyjnej w Polsce\, odbywające się w idealnym momencie – na początku sezonu planowania budżetów i celów strategicznych. \nGłówne obszary tematyczne:\n\nWkład HR w ROI i skalowanie AI – jak mierzyć produktywność\, efektywność zespołów oraz wspierać adopcję technologii w sposób strategiczny.\nZarządzanie w erze transparentności – kultura organizacyjna\, luka płacowa\, EVP i przywództwo w nowej rzeczywistości.\nDojrzałość organizacji opartej na kompetencjach (skills-based organization) – praktyczne wdrażanie taksonomii umiejętności oraz integracja z systemami talent i performance management.\n\nJak co roku\, HR Summit to nie tylko wysoki poziom merytoryczny\, ale również elitarna przestrzeń networkingowa\, inspirujące dyskusje kuluarowe\, interaktywne formaty spotkań oraz znane uczestnikom wieczorne spotkanie integracyjne. \nTo wydarzenie dla liderów\, którzy chcą przygotować mierzalną\, nowoczesną i spójną strategię HR na 2027 rok oraz realnie wzmocnić rolę HR jako partnera biznesowego.
URL:https://procurewise.pl/en/event/hr-summit/
LOCATION:Hotel Arche\, Aleja Krakowska 237/U1\, Warszawa\, Mazowieckie\, 02-180\, Poland
CATEGORIES:HR,Managment
ATTACH;FMTTYPE=image/jpeg:https://procurewise.pl/wp-content/uploads/2025/03/Grafika-wydarzenia-21-1.jpg
END:VEVENT
END:VCALENDAR