BEGIN:VCALENDAR
VERSION:2.0
PRODID:-//ProcureWise - ECPv6.8.2.1//NONSGML v1.0//EN
CALSCALE:GREGORIAN
METHOD:PUBLISH
X-ORIGINAL-URL:https://procurewise.pl
X-WR-CALDESC:Events for ProcureWise
REFRESH-INTERVAL;VALUE=DURATION:PT1H
X-Robots-Tag:noindex
X-PUBLISHED-TTL:PT1H
BEGIN:VTIMEZONE
TZID:Europe/Warsaw
BEGIN:DAYLIGHT
TZOFFSETFROM:+0100
TZOFFSETTO:+0200
TZNAME:CEST
DTSTART:20230326T010000
END:DAYLIGHT
BEGIN:STANDARD
TZOFFSETFROM:+0200
TZOFFSETTO:+0100
TZNAME:CET
DTSTART:20231029T010000
END:STANDARD
BEGIN:DAYLIGHT
TZOFFSETFROM:+0100
TZOFFSETTO:+0200
TZNAME:CEST
DTSTART:20240331T010000
END:DAYLIGHT
BEGIN:STANDARD
TZOFFSETFROM:+0200
TZOFFSETTO:+0100
TZNAME:CET
DTSTART:20241027T010000
END:STANDARD
BEGIN:DAYLIGHT
TZOFFSETFROM:+0100
TZOFFSETTO:+0200
TZNAME:CEST
DTSTART:20250330T010000
END:DAYLIGHT
BEGIN:STANDARD
TZOFFSETFROM:+0200
TZOFFSETTO:+0100
TZNAME:CET
DTSTART:20251026T010000
END:STANDARD
BEGIN:DAYLIGHT
TZOFFSETFROM:+0100
TZOFFSETTO:+0200
TZNAME:CEST
DTSTART:20260329T010000
END:DAYLIGHT
BEGIN:STANDARD
TZOFFSETFROM:+0200
TZOFFSETTO:+0100
TZNAME:CET
DTSTART:20261025T010000
END:STANDARD
END:VTIMEZONE
BEGIN:VEVENT
DTSTART;VALUE=DATE:20260408
DTEND;VALUE=DATE:20260410
DTSTAMP:20260421T203417
CREATED:20240528T102853Z
LAST-MODIFIED:20260218T110337Z
UID:1680-1775606400-1775779199@procurewise.pl
SUMMARY:X Polish Procurement Congress Public
DESCRIPTION:The Congress serves as a professional platform for exchanging experience between practitioners of public procurement and legal experts specializing in PPL. The agenda focuses on the latest rulings of the National Appeals Chamber (KIO) and key interpretative issues faced by contracting authorities. \nThis event is designed for professionals who want to: \n\nMinimize procedural risks in procurement processes\nUnderstand current case law trends\nClarify complex regulatory changes\nReceive practical answers to real-life procurement challenges\n\nProgram Highlights\n🔹 Day 1\n\nContractor’s refusal to sign a contract\nAppeals to the National Appeals Chamber under new rules\nAnnulment of proceedings due to procedural defects\nCompetitive dialogue as an alternative to a design contest\nActs of unfair competition in current KIO case law\nSelf-cleaning mechanisms of contractors – practical guidance\n\n🔹 Day 2\n\nEquivalent vs. alternative (variant) solutions in bids\nDivision of contracts into lots – when to apply and when to avoid\nIn-house procurement – principles\, practice\, and recent case law\nThe role of legal definitions in interpreting tender documentation (SWZ)\nSite visits and their importance in procurement proceedings\nPreliminary market consultations – preparation and execution\n\nSpeakers\nThe Congress features experienced legal practitioners\, including: \n\nKonrad Cichoń – Legal Advisor\nMateusz Brzeziński – Partner\, JBP Jarzyński Brzeziński Partners\nMichał Liżewski – Attorney-at-law\, LEGALLY.SMART\nDariusz Ziembiński – Dariusz Ziembiński & Partners Law Firm\nMarta Owczarczyk – Legal Advisor\, Sadkowski i Wspólnicy\nRafał Cieślak – Legal Advisor\n\nand other recognized Public Procurement Law experts. \nWhy Attend?\n✔ Up-to-date case law and regulatory interpretations\n✔ Practical solutions to real procurement challenges\n✔ Live Q&A via chat\n✔ Simultaneous access to speaker and presentation view\n✔ High-quality online transmission (Full HD) \nAverage rating of previous editions: 4.67 / 5 \nWho Should Attend?\n\nPublic procurement officers\nHeads of contracting authorities\nLegal advisors and attorneys serving public sector entities\nControllers and auditors\nProfessionals responsible for preparing and conducting tender procedures\n\nThe 10th Polish Contracting Authorities Congress provides a comprehensive\, practice-oriented overview of Public Procurement Law based on expert experience and the latest judicial rulings.
URL:https://procurewise.pl/en/event/polish-procurement-congress-public/
LOCATION:online
CATEGORIES:Procurement,Zakupy,Zamówienia publiczne
ATTACH;FMTTYPE=image/jpeg:https://procurewise.pl/wp-content/uploads/2024/05/Grafika-wydarzenia-35-1.jpg
END:VEVENT
BEGIN:VEVENT
DTSTART;VALUE=DATE:20230517
DTEND;VALUE=DATE:20230520
DTSTAMP:20260421T203417
CREATED:20231114T093323Z
LAST-MODIFIED:20231115T110045Z
UID:762-1684281600-1684540799@procurewise.pl
SUMMARY:VII Procurement Congress
DESCRIPTION:Public procurement law through the eyes of practitioners and lawyers.
URL:https://procurewise.pl/en/event/vii-procurement-congress/
LOCATION:online
CATEGORIES:Zamówienia publiczne
ATTACH;FMTTYPE=image/jpeg:https://procurewise.pl/wp-content/uploads/2023/11/VII-Procurement-Congress.jpg
END:VEVENT
END:VCALENDAR