BEGIN:VCALENDAR
VERSION:2.0
PRODID:-//ProcureWise - ECPv6.8.2.1//NONSGML v1.0//EN
CALSCALE:GREGORIAN
METHOD:PUBLISH
X-WR-CALNAME:ProcureWise
X-ORIGINAL-URL:https://procurewise.pl
X-WR-CALDESC:Events for ProcureWise
REFRESH-INTERVAL;VALUE=DURATION:PT1H
X-Robots-Tag:noindex
X-PUBLISHED-TTL:PT1H
BEGIN:VTIMEZONE
TZID:Europe/Warsaw
BEGIN:DAYLIGHT
TZOFFSETFROM:+0100
TZOFFSETTO:+0200
TZNAME:CEST
DTSTART:20260329T010000
END:DAYLIGHT
BEGIN:STANDARD
TZOFFSETFROM:+0200
TZOFFSETTO:+0100
TZNAME:CET
DTSTART:20261025T010000
END:STANDARD
END:VTIMEZONE
BEGIN:VEVENT
DTSTART;VALUE=DATE:20260519
DTEND;VALUE=DATE:20260523
DTSTAMP:20260421T190634
CREATED:20231113T145216Z
LAST-MODIFIED:20251226T145625Z
UID:619-1779148800-1779494399@procurewise.pl
SUMMARY:eBF 2026
DESCRIPTION:eBF Festival is a unique event that combines a professional conference with a true festival atmosphere\, fully dedicated to the digitalisation of corporate procurement and public purchasing. The 22nd edition of eBF will take place on 19–22 May 2026 in Ostrava\, in the exceptional post-industrial setting of the Dolní Vítkovice complex. \nFor many years\, eBF has been a meeting place for practitioners\, experts\, public procurement leaders\, corporate purchasing professionals and providers of modern digital solutions. What makes the event stand out is its informal\, festival-style formula\, which encourages open exchange of knowledge\, inspiration and experience—both on expert stages and in dedicated networking zones. \nWhat makes eBF unique?\n\nexpert keynotes and panel discussions focused on digitalisation\, automation and innovation in procurement\,\nhands-on workshops and thematic eProcurement and eSourcing sessions\,\na unique combination of public procurement and corporate purchasing communities\,\nfriendly\, colorful networking within a dedicated “festival village\,”\naccompanying activities such as a morning run\, art exhibitions and informal coffee meetings.\n\nKey program highlights\n\nFair Sourcing Awards (FSA) – a prestigious gala recognizing the most innovative and effective projects in the digitalisation of corporate procurement and public purchasing\,\nCaffè Lungo (Long Coffee) – a series of intimate roundtable discussions with inspiring personalities from outside the procurement world\,\nRAZEM Exhibition – a distinctive blend of procurement and art\, created by participants\, organizers and their friends.\n\neBF Festival is not just a conference—it is a community of people open to dialogue\, innovation and collaboration\, seeking practical solutions to the challenges facing modern procurement and public purchasing\, all within an inspiring and friendly atmosphere. \nJoin us in May 2026 and experience why eBF is an event people truly want to return to.
URL:https://procurewise.pl/en/event/ebf/
LOCATION:Imperial Hotel Ostrava\, Tyršova 1250\, Moravská Ostrava a Přívoz\, 702 00\, Czech Republic
CATEGORIES:Cyfryzacja,Zakupy,Zamówienia publiczne
ATTACH;FMTTYPE=image/png:https://procurewise.pl/wp-content/uploads/2023/11/Grafika-wydarzenia-14.png
END:VEVENT
END:VCALENDAR