BEGIN:VCALENDAR
VERSION:2.0
PRODID:-//ProcureWise - ECPv6.8.2.1//NONSGML v1.0//EN
CALSCALE:GREGORIAN
METHOD:PUBLISH
X-ORIGINAL-URL:https://procurewise.pl
X-WR-CALDESC:Events for ProcureWise
REFRESH-INTERVAL;VALUE=DURATION:PT1H
X-Robots-Tag:noindex
X-PUBLISHED-TTL:PT1H
BEGIN:VTIMEZONE
TZID:Europe/Warsaw
BEGIN:DAYLIGHT
TZOFFSETFROM:+0100
TZOFFSETTO:+0200
TZNAME:CEST
DTSTART:20260329T010000
END:DAYLIGHT
BEGIN:STANDARD
TZOFFSETFROM:+0200
TZOFFSETTO:+0100
TZNAME:CET
DTSTART:20261025T010000
END:STANDARD
END:VTIMEZONE
BEGIN:VEVENT
DTSTART;VALUE=DATE:20260422
DTEND;VALUE=DATE:20260425
DTSTAMP:20260421T181145
CREATED:20230808T082629Z
LAST-MODIFIED:20251225T072144Z
UID:129-1776816000-1777075199@procurewise.pl
SUMMARY:Europejski Kongres Gospodarczy 2026
DESCRIPTION:Europejski Kongres Gospodarczy (EEC 2026) to jedno z najważniejszych wydarzeń biznesowo-debatowych w Europie Centralnej\, które odbędzie się 22–24 kwietnia 2026 r. w Katowicach w Międzynarodowym Centrum Kongresowym (MCK) oraz w Spodku. Hasłem przewodnim tegorocznej edycji jest „The Power of Dialogue. Siła dialogu” – podkreślające znaczenie współpracy i wymiany perspektyw w czasach rosnącej niepewności gospodarczej i geopolitycznej. \nKongres to trzy dni intensywnych debat\, spotkań i rozmów z udziałem przedsiębiorców\, liderów sektora publicznego\, nauki\, ekspertów oraz przedstawicieli mediów. Agenda koncentruje się na kluczowych wyzwaniach współczesności i na tym\, jak budować konkurencyjną\, bezpieczną i zrównoważoną gospodarkę. \nW centrum programu znajdują się m.in. następujące nurty tematyczne: \n\nEuropa pod presją – geopolityka\, solidarność\, rola UE w świecie rywalizujących mocarstw\,\nSuwerenność i konkurencyjność – odporność łańcuchów dostaw\, nearshoring\, innowacje\,\nOdporność i bezpieczeństwo – infrastruktura\, cyberbezpieczeństwo\, obronność\, energia\,\nEnergia\, transformacja\, inwestycje – OZE\, atom\, sieci\, magazynowanie i koszty energii\,\nCyfryzacja i technologie jutra – AI\, automatyzacja\, robotyzacja\, dane\, przemysł kosmiczny\,\nCzłowiek\, rozwój\, równowaga – kompetencje przyszłości\, rynek pracy\, demografia\, jakość życia.\n\nDodatkowym elementem jest Prolog EEC 2026 – spotkanie wprowadzające\, zaplanowane na 9 lutego 2026 r. w Hotelu Sheraton Grand Warsaw. \nEEC 2026 to przestrzeń\, w której dialog przekłada się na decyzje\, współpracę i konkretne kierunki rozwoju – zarówno dla firm\, jak i dla całej gospodarki. Rejestracja ma ruszyć w lutym 2026\, a organizatorzy zachęcają do współtworzenia agendy poprzez zgłaszanie tematów i propozycji prelegentów.
URL:https://procurewise.pl/event/europejski-kongres-gospodarczy/
LOCATION:Międzynarodowe Centrum Kongresowe w Katowicach\, plac Sławika i Antalla 1\, Katowice\, 40-163
CATEGORIES:Geopolityka,Makroekonomia
ATTACH;FMTTYPE=image/jpeg:https://procurewise.pl/wp-content/uploads/2023/08/Grafika-wydarzenia-8.jpg
END:VEVENT
BEGIN:VEVENT
DTSTART;VALUE=DATE:20260610
DTEND;VALUE=DATE:20260611
DTSTAMP:20260421T181145
CREATED:20250325T144729Z
LAST-MODIFIED:20260419T183908Z
UID:22992285-1781049600-1781135999@procurewise.pl
SUMMARY:Zakupy 2026
DESCRIPTION:Konferencja Zakupy 2026 to jedno z kluczowych wydarzeń dla liderów procurementu\, które odbędzie się 10 czerwca 2026 roku w Warszawa. Spotkanie organizowane przez Puls Biznesu odpowiada na rosnącą rolę działów zakupów jako strategicznych partnerów biznesu. \nWspółczesne organizacje odchodzą od postrzegania zakupów wyłącznie przez pryzmat optymalizacji kosztów. Procurement staje się dziś centrum decyzyjnym\, gdzie krzyżują się dane\, relacje i kluczowe decyzje wpływające na rozwój firmy. Konferencja koncentruje się na wyzwaniach\, jakie rok 2026 stawia przed liderami – przede wszystkim na budowaniu odporności organizacyjnej oraz tworzeniu wartości w warunkach dynamicznych zmian rynkowych. \nProgram wydarzenia obejmuje analizę rzeczywistych case studies oraz praktyczne podejście do transformacji funkcji zakupowych w trzech kluczowych obszarach: \n\nAnaliza danych – budowa efektywnego spend analytics wspierającego oszczędności i szybkość działania\,\nAutomatyzacja – wdrażanie narzędzi eProcurement i odchodzenie od manualnych procesów\,\nWpływ strategiczny – wzmacnianie pozycji lidera zakupów jako partnera dla finansów i operacji.\n\nUnikalnym elementem konferencji jest interaktywna gra symulacyjna „Kolekcjonerzy”\, która pozwala uczestnikom przećwiczyć podejmowanie decyzji w warunkach presji i niepewności. Dodatkowo\, dzień zakończą kameralne sesje Round Tables\, umożliwiające wymianę doświadczeń w zakresie centralizacji zakupów\, zarządzania talentami oraz wykorzystania AI w analizie danych. \nKonferencja skierowana jest do osób\, które chcą aktywnie kształtować przyszłość zakupów i przekształcić je w funkcję o realnym znaczeniu strategicznym.
URL:https://procurewise.pl/event/zakupy/
LOCATION:Warszawa\, Warszawa\, 00-901\, Poland
CATEGORIES:AI,Cyfryzacja,ESG,Geopolityka,Procurement,Zakupy
ATTACH;FMTTYPE=image/jpeg:https://procurewise.pl/wp-content/uploads/2025/03/Grafika-wydarzenia-1-1.jpg
END:VEVENT
END:VCALENDAR