BEGIN:VCALENDAR
VERSION:2.0
PRODID:-//ProcureWise - ECPv6.8.2.1//NONSGML v1.0//EN
CALSCALE:GREGORIAN
METHOD:PUBLISH
X-WR-CALNAME:ProcureWise
X-ORIGINAL-URL:https://procurewise.pl
X-WR-CALDESC:Events for ProcureWise
REFRESH-INTERVAL;VALUE=DURATION:PT1H
X-Robots-Tag:noindex
X-PUBLISHED-TTL:PT1H
BEGIN:VTIMEZONE
TZID:Europe/Warsaw
BEGIN:DAYLIGHT
TZOFFSETFROM:+0100
TZOFFSETTO:+0200
TZNAME:CEST
DTSTART:20260329T010000
END:DAYLIGHT
BEGIN:STANDARD
TZOFFSETFROM:+0200
TZOFFSETTO:+0100
TZNAME:CET
DTSTART:20261025T010000
END:STANDARD
END:VTIMEZONE
BEGIN:VEVENT
DTSTART;VALUE=DATE:20260421
DTEND;VALUE=DATE:20260423
DTSTAMP:20260421T161645
CREATED:20251229T210329Z
LAST-MODIFIED:20251229T211719Z
UID:22993041-1776729600-1776902399@procurewise.pl
SUMMARY:ProcureCon Connect 2026
DESCRIPTION:ProcureCon Connect Europe 2026 to ekskluzywne\, zamknięte forum dla najbardziej wpływowych liderów zakupów w Europie\, które odbędzie się 21–22 kwietnia 2026 roku w Novotel Paris Centre Tour Eiffel w Paryżu. \nTo dwudniowe spotkanie zostało zaprojektowane dla praktyków i przez praktyków. Gromadzi najwyższą kadrę decyzyjną – CPO oraz dyrektorów zakupów – oferując intensywne sesje merytoryczne\, szczere dyskusje w gronie ekspertów oraz spersonalizowane spotkania 1-na-1 z wyselekcjonowanymi partnerami technologicznymi i rozwiązaniowymi. \nCo wyróżnia ProcureCon Connect?\n\nStarannie dobrani uczestnicy i prelegenci – udział możliwy wyłącznie na zaproszenie\, po weryfikacji zakresu decyzyjności i budżetu.\nTreści o charakterze strategicznym – koncentracja na realnych wyzwaniach i sprawdzonych rozwiązaniach w obszarze zakupów.\nIndywidualnie dopasowany networking – zamknięte sesje i spotkania 1-na-1 oparte na priorytetach uczestników.\nLuksusowa\, kameralna formuła – prestiżowa lokalizacja sprzyjająca jakościowym rozmowom bez rozpraszaczy.\n\nTematyka 2026\n\nwykorzystanie AI i transformacji cyfrowej w zakupach\,\nwzmacnianie roli procurementu jako strategicznego partnera biznesu\,\nbudowanie odporności organizacji i wartości dla biznesu\,\nrozwój współpracy z dostawcami i nowoczesnych modeli sourcingu.\n\nDla kogo?\nWydarzenie skierowane jest do: \n\nChief Procurement Officers (CPO)\,\nHead of Procurement / Indirect Procurement\,\nliderów transformacji i doskonałości zakupowej.\n\nProcureCon Connect Europe 2026 to elitarna przestrzeń wymiany wiedzy\, doświadczeń i kontaktów – idealna dla liderów\, którzy chcą realnie kształtować przyszłość zakupów w Europie.
URL:https://procurewise.pl/event/procurecon-connect/
LOCATION:Novotel Paris Centre Tour Eiffel\, 61 Quai de Grenelle\, Paris\, 75015\, France
CATEGORIES:Cyfryzacja,Łańcuch Dostaw,Managment,Procurement,Zakupy
ATTACH;FMTTYPE=image/png:https://procurewise.pl/wp-content/uploads/2025/12/Grafika-wydarzenia-23.png
END:VEVENT
BEGIN:VEVENT
DTSTART;VALUE=DATE:20260915
DTEND;VALUE=DATE:20260917
DTSTAMP:20260421T161645
CREATED:20250328T094713Z
LAST-MODIFIED:20251228T185335Z
UID:22992326-1789430400-1789603199@procurewise.pl
SUMMARY:HR Summit 2026
DESCRIPTION:HR Summit 2026 to 13. edycja prestiżowego kongresu HR\, organizowanego przez Puls Biznesu\, która odbędzie się 15–16 września 2026 roku w Warszawie (dokładna lokalizacja zostanie ogłoszona w późniejszym terminie). \nRok 2026 będzie momentem strategicznego przełomu dla działów HR. Czas eksperymentów dobiega końca – organizacje nie pytają już czy wdrażać nowe technologie i modele zarządzania\, lecz jak robić to skutecznie i mierzalnie. Odpowiedzią na te wyzwania jest motyw przewodni wydarzenia: „Harmonized Resources – nowa strategia HR na erę AI i transparentności”. \nHR Summit 2026 koncentruje się na strategicznej synchronizacji technologii\, danych i kompetencji\, tak aby HR realnie wspierał wyniki biznesowe i przygotował organizacje na rok 2027. To kluczowe spotkanie dla CHRO\, Dyrektorów HR i liderów transformacji organizacyjnej w Polsce\, odbywające się w idealnym momencie – na początku sezonu planowania budżetów i celów strategicznych. \nGłówne obszary tematyczne:\n\nWkład HR w ROI i skalowanie AI – jak mierzyć produktywność\, efektywność zespołów oraz wspierać adopcję technologii w sposób strategiczny.\nZarządzanie w erze transparentności – kultura organizacyjna\, luka płacowa\, EVP i przywództwo w nowej rzeczywistości.\nDojrzałość organizacji opartej na kompetencjach (skills-based organization) – praktyczne wdrażanie taksonomii umiejętności oraz integracja z systemami talent i performance management.\n\nJak co roku\, HR Summit to nie tylko wysoki poziom merytoryczny\, ale również elitarna przestrzeń networkingowa\, inspirujące dyskusje kuluarowe\, interaktywne formaty spotkań oraz znane uczestnikom wieczorne spotkanie integracyjne. \nTo wydarzenie dla liderów\, którzy chcą przygotować mierzalną\, nowoczesną i spójną strategię HR na 2027 rok oraz realnie wzmocnić rolę HR jako partnera biznesowego.
URL:https://procurewise.pl/event/hr-summit/
LOCATION:Hotel Arche\, Aleja Krakowska 237/U1\, Warszawa\, Mazowieckie\, 02-180\, Poland
CATEGORIES:HR,Managment
ATTACH;FMTTYPE=image/jpeg:https://procurewise.pl/wp-content/uploads/2025/03/Grafika-wydarzenia-21.jpg
END:VEVENT
BEGIN:VEVENT
DTSTART;VALUE=DATE:20261008
DTEND;VALUE=DATE:20261010
DTSTAMP:20260421T161645
CREATED:20240524T130313Z
LAST-MODIFIED:20251229T214644Z
UID:1600-1791417600-1791590399@procurewise.pl
SUMMARY:Procurement Angels 2026
DESCRIPTION:Procurement Angels – Konferencja Zakupowa / Forum Zakupów to dwudniowe\, ogólnopolskie wydarzenie branżowe skierowane do liderów i praktyków zakupów\, managerów procurementu\, CPO oraz osób odpowiedzialnych za strategie zakupowe i łańcuch dostaw. \nKonferencja odbywa się w Warszawie (Hotel Airport Okęcie**)** i stanowi unikalną przestrzeń wymiany wiedzy\, doświadczeń oraz najlepszych praktyk w obszarze zarządzania zakupami\, negocjacji\, optymalizacji kosztów\, analizy danych\, AI w zakupach\, category managementu\, ESG oraz wpływu geopolityki na supply chain. \nWydarzenie wyróżnia się: \n\n100% merytorycznym programem – bez sponsorowanych prelekcji\npraktycznymi case studies prezentowanymi przez liderów zakupów z topowych firm (m.in. Amazon\, GSK\, InPost\, Empik\, Newell Brands)\nsilnym naciskiem na networking i budowę społeczności zakupowej\naktywnym udziałem uczestników\, którzy głosują na najbardziej inspirującą prelekcję roku\npołączeniem kompetencji miękkich (negocjacje\, emocje\, przywództwo) z twardymi narzędziami (dane\, automatyzacja\, AI\, strategie zakupowe)\n\nProgram obejmuje prelekcje eksperckie\, debaty\, panele dyskusyjne\, sesje tematyczne oraz wieczorny bankiet networkingowy. Konferencja dostępna jest zarówno w formule stacjonarnej\, jak i online\, z różnymi pakietami uczestnictwa. \nProcurement Angels to nie tylko konferencja\, ale platforma integrująca środowisko zakupowe w Polsce\, nastawiona na realny rozwój kompetencji\, inspirację oraz wymianę doświadczeń pomiędzy przedstawicielami ponad 40 branż. \nTo wydarzenie dla tych\, którzy chcą świadomie rozwijać funkcję zakupów jako strategiczny element biznesu.
URL:https://procurewise.pl/event/procurement-angels/
LOCATION:Olivia Star\, aleja Grunwaldzka 472C\, Gdańsk\, 80-309\, Poland
CATEGORIES:Managment,Procurement,Zakupy
ATTACH;FMTTYPE=image/jpeg:https://procurewise.pl/wp-content/uploads/2024/05/Grafika-wydarzenia-7.jpg
END:VEVENT
BEGIN:VEVENT
DTSTART;VALUE=DATE:20261020
DTEND;VALUE=DATE:20261022
DTSTAMP:20260421T161645
CREATED:20260218T105027Z
LAST-MODIFIED:20260218T105027Z
UID:22993421-1792454400-1792627199@procurewise.pl
SUMMARY:XII Polski Kongres Przedsiębiorczości
DESCRIPTION:Kongres od lat tworzy platformę realnego dialogu pomiędzy biznesem\, administracją i nauką. Dzięki obecności osób zajmujących najwyższe stanowiska w swoich instytucjach\, wypracowane podczas debat rozwiązania mają szansę zostać przełożone na praktyczne działania. \nW centrum rozmów znajdują się: \n\nrozwój gospodarczy\,\ninwestycje i innowacje\,\nwspółpraca biznesu z administracją\,\nkomercjalizacja badań i projektów\,\nwyzwania polskiej i światowej gospodarki.\n\nRada Programowa\nW skład Rady Programowej XII edycji wchodzą m.in.: \n\nWojciech Pomarański – Prezes Zarządu\, Polska Agencja Przedsiębiorczości\nJacek Sutryk – Prezydent Wrocławia\nMarcin Urban – Skarbnik Wrocławia\nMichał Rado – Wicemarszałek Województwa Dolnośląskiego\nCezary Pacamaj – Wiceprezes Zarządu\, Port Lotniczy Wrocław S.A.\nKrzysztof Kubiak – Rektor Uniwersytetu Przyrodniczego we Wrocławiu\n\nProgram wydarzenia\n🔹 Inauguracja\n20 października o godz. 10:00 odbędzie się uroczyste otwarcie Kongresu – wydarzenie o wyjątkowej oprawie\, które nada ton całemu spotkaniu. \n🔹 Panele dyskusyjne\nW programie znajdą się m.in. konferencje: \n\n„Sukces w szpilkach”\n„Prawo do biznesu”\n„Medycyna jutra”\n\nPanele odbywać się będą w dniach 20–21 października w godz. 11:00–16:00. \n🔹 Strefa wystawiennicza i targi pracy\nFirmy\, instytucje oraz uczelnie zaprezentują swoją ofertę w przestrzeni wystawienniczej. W ramach targów pracy uczestnicy będą mogli zapoznać się z aktualnymi ofertami i porozmawiać z potencjalnymi pracodawcami. \n🔹 Gala finałowa\nWyjątkowe zwieńczenie Kongresu połączone z uroczystym podsumowaniem. Wieczór uświetnią występy: \n\nAnia Dąbrowska\nCzesław Mozil\n\nSkala wydarzenia\nPoprzednia edycja Kongresu zgromadziła: \n\nponad 30 paneli dyskusyjnych\,\nok. 200 prelegentów\,\nniemal 3000 uczestników\,\nblisko 200 wyróżnionych podmiotów\,\nkilkanaście tysięcy widzów online.\n\nWśród uczestników i gości poprzednich edycji znaleźli się m.in.: \n\nAndrzej Duda – Prezydent RP\nSzymon Hołownia – Marszałek Sejmu RP\nKrzysztof Gawkowski – Wicepremier\, Minister Cyfryzacji\n\nDlaczego warto?\n✔ Bezpośredni kontakt z liderami biznesu i administracji\n✔ Możliwość nawiązania długofalowych relacji\n✔ Aktualne tematy gospodarcze i regulacyjne\n✔ Inspirujące debaty i interdyscyplinarne spojrzenie na rozwój \nPolski Kongres Przedsiębiorczości od lat realnie wpływa na działania przedsiębiorców\, naukowców i samorządowców\, wspierając rozwój gospodarczy oraz wdrażanie innowacyjnych rozwiązań.
URL:https://procurewise.pl/event/polski-kongres-przedsiebiorczosci/
LOCATION:Hala Stulecia\, Wystawowa 1\, Wrocław\, 51-618\, Poland
CATEGORIES:Ekonomia,Managment,Networking
ATTACH;FMTTYPE=image/png:https://procurewise.pl/wp-content/uploads/2026/02/Grafika-wydarzenia-34.png
END:VEVENT
END:VCALENDAR