BEGIN:VCALENDAR
VERSION:2.0
PRODID:-//ProcureWise - ECPv6.8.2.1//NONSGML v1.0//EN
CALSCALE:GREGORIAN
METHOD:PUBLISH
X-ORIGINAL-URL:https://procurewise.pl
X-WR-CALDESC:Events for ProcureWise
REFRESH-INTERVAL;VALUE=DURATION:PT1H
X-Robots-Tag:noindex
X-PUBLISHED-TTL:PT1H
BEGIN:VTIMEZONE
TZID:Europe/Warsaw
BEGIN:DAYLIGHT
TZOFFSETFROM:+0100
TZOFFSETTO:+0200
TZNAME:CEST
DTSTART:20260329T010000
END:DAYLIGHT
BEGIN:STANDARD
TZOFFSETFROM:+0200
TZOFFSETTO:+0100
TZNAME:CET
DTSTART:20261025T010000
END:STANDARD
BEGIN:DAYLIGHT
TZOFFSETFROM:+0100
TZOFFSETTO:+0200
TZNAME:CEST
DTSTART:20270328T010000
END:DAYLIGHT
BEGIN:STANDARD
TZOFFSETFROM:+0200
TZOFFSETTO:+0100
TZNAME:CET
DTSTART:20271031T010000
END:STANDARD
END:VTIMEZONE
BEGIN:VEVENT
DTSTART;VALUE=DATE:20260305
DTEND;VALUE=DATE:20270306
DTSTAMP:20260421T132613
CREATED:20241221T203056Z
LAST-MODIFIED:20251218T095316Z
UID:22990617-1772668800-1804291199@procurewise.pl
SUMMARY:BEOMNI 2026
DESCRIPTION:BEOMNI 2026 to międzynarodowa konferencja biznesowa poświęcona efektywności w e-commerce\, która odbędzie się 5 marca 2026 roku we Wrocławiu\, w nowoczesnej przestrzeni triQube – Inkubator Przedsiębiorczości\, nazywanej często Polską Doliną Krzemową. Wydarzenie od lat stanowi stały punkt w kalendarzu najważniejszych inicjatyw dla liderów sprzedaży online i omnichannel. \nKonferencja łączy praktyczną wiedzę\, strategiczne podejście do biznesu oraz wysokiej jakości networking\, tworząc przestrzeń do realnej wymiany doświadczeń pomiędzy przedsiębiorcami\, menedżerami\, ekspertami i przedstawicielami środowiska akademickiego. BEOMNI skierowane jest do właścicieli i liderów e-commerce\, producentów\, sprzedawców\, marketplace’ów oraz firm technologicznych wspierających sprzedaż wielokanałową. \nBEOMNI 2026 będzie kontynuacją i rozszerzeniem tematyki poprzednich edycji\, skupionych na skalowaniu biznesu\, optymalizacji kosztów\, zarządzaniu marżą oraz świadomym prowadzeniu sprzedaży omnichannel. Program wydarzenia obejmuje prelekcje ekspertów-praktyków\, panele dyskusyjne liderów rynku\, case studies oraz rozmowy o aktualnej sytuacji gospodarczej i jej wpływie na e-commerce. \nUczestnicy wezmą udział w Business Mixerze\, spotkaniach B2B i B2C\, a także skorzystają z dedykowanych stref networkingowych\, Job Corner oraz przestrzeni rozmów o inwestycjach w e-commerce. Wydarzenie tworzy unikalną okazję do poznania najnowszych trendów\, technologii i rynków sprzedaży oraz do spojrzenia na własny biznes z nowej perspektywy. \nBEOMNI to społeczność\, doświadczenie i praktyka – potwierdzone ponad 2000 uczestników wcześniejszych edycji oraz setkami godzin eksperckich treści BEOMNI Live. BEOMNI 2026 zapowiada się jako kolejny ważny krok w rozwoju nowoczesnego\, rentownego e-commerce.
URL:https://procurewise.pl/event/beomni/
LOCATION:triQube – Inkubator Przedsiębiorczości\, Januszowicka 5\, Wrocław\, 53-135\, Poland
CATEGORIES:Cyfryzacja,e-Commerce,HoReCa,Logistyka,Networking
ATTACH;FMTTYPE=image/png:https://procurewise.pl/wp-content/uploads/2024/12/Grafika-wydarzenia-48.png
END:VEVENT
BEGIN:VEVENT
DTSTART;VALUE=DATE:20260326
DTEND;VALUE=DATE:20270327
DTSTAMP:20260421T132613
CREATED:20241220T212610Z
LAST-MODIFIED:20251128T214753Z
UID:22990504-1774483200-1806105599@procurewise.pl
SUMMARY:Ecommerce.pl Event 5.0
DESCRIPTION:Ecommerce.pl zaprasza na Event 5.0 – wydarzenie\, które otwiera nowy rozdział w świecie handlu internetowego. To coś więcej niż konferencja – to spotkanie liderów branży\, pasjonatów e-commerce i innowatorów gotowych zmieniać zasady gry. \nCzego możesz się spodziewać? \n\nPraktycznej wiedzy\, którą zastosujesz od razu w swoim biznesie\nStrategii i trendów\, które definiują przyszłość e-commerce\nInspirujących historii sukcesu i porażek – bez ściemy\nKonkretów od najlepszych ekspertów z Polski i zagranicy\n\nNie chodzi już tylko o sprzedaż. Chodzi o całkowicie nowe podejście\, nowe narzędzia i nowe możliwości. Jeśli chcesz być krok przed konkurencją – Event 4.0 jest miejscem\, w którym musisz się pojawić. \nDo zobaczenia!
URL:https://procurewise.pl/event/ecommerce-pl-event/
LOCATION:Multikino Złote Tarasy\, Złota 59\, Warszawa\, 00-120\, Poland
CATEGORIES:e-Commerce,Networking
ATTACH;FMTTYPE=image/png:https://procurewise.pl/wp-content/uploads/2024/12/Grafika-wydarzenia-5-1.png
END:VEVENT
BEGIN:VEVENT
DTSTART;VALUE=DATE:20260521
DTEND;VALUE=DATE:20260523
DTSTAMP:20260421T132613
CREATED:20250327T142526Z
LAST-MODIFIED:20251226T142017Z
UID:22992293-1779321600-1779494399@procurewise.pl
SUMMARY:SEO Vibes Summit'26
DESCRIPTION:SEO Vibes Summit ’26 to wyjątkowa\, międzynarodowa konferencja SEO\, która odbędzie się 21–22 maja 2026 roku w Zakopanem. Wydarzenie łączy światowej klasy wiedzę ekspercką\, intensywny networking oraz niepowtarzalną atmosferę gór\, tworząc przestrzeń sprzyjającą rozwojowi\, inspiracji i realnym rozmowom biznesowym. \nKonferencja skierowana jest do specjalistów SEO\, marketerów\, właścicieli agencji oraz liderów digital marketingu z całego świata. W programie znajdą się prelekcje topowych ekspertów na Main Stage\, praktyczne warsztaty\, a także kameralne sesje Mastermind\, pozwalające uczestnikom pracować na realnych wyzwaniach i konkretnych case’ach. \nSEO Vibes Summit ’26 to: \n\nponad 350 uczestników z całego świata\,\n20+ prelegentów\, moderatorów i trenerów\,\nnacisk na praktyczną wiedzę\, gotową do wdrożenia „tu i teraz”\,\nunikalne formaty networkingowe w inspirującym\, górskim klimacie.\n\nWydarzenie oferuje kilka pakietów uczestnictwa – od biletów konferencyjnych po pakiety all-inclusive z noclegiem oraz ekskluzywne spotkania VIP z prelegentami. Całość odbywa się w prestiżowym Nosalowy Dwór Resort & Spa** u stóp Tatr\, zapewniając idealne warunki do nauki\, wymiany doświadczeń i regeneracji. \nSEO Vibes Summit ’26 to nie tylko konferencja\, ale doświadczenie\, które łączy wiedzę\, relacje i relaks – dla tych\, którzy chcą być o krok przed innymi w świecie SEO i digital marketingu.
URL:https://procurewise.pl/event/seo-vibes-summit/
LOCATION:Nosalowy Dwór Resort & Spa\, Balzera 21c-f\, Zakopane\, 34-500\, Poland
CATEGORIES:AI,Cyfryzacja,Marketing,Networking
ATTACH;FMTTYPE=image/jpeg:https://procurewise.pl/wp-content/uploads/2025/03/Grafika-wydarzenia-12.jpg
END:VEVENT
BEGIN:VEVENT
DTSTART;VALUE=DATE:20260608
DTEND;VALUE=DATE:20260610
DTSTAMP:20260421T132613
CREATED:20250218T100818Z
LAST-MODIFIED:20260311T110452Z
UID:22991533-1780876800-1781049599@procurewise.pl
SUMMARY:14. Forum Kobiet w Logistyce
DESCRIPTION:14. Forum Women in Logistics powraca w odświeżonej formule pod hasłem Leadership Co-Relations – jako otwarta platforma rozwoju przywództwa w branży logistycznej. \nForum przeszło ewolucję: z wydarzenia skoncentrowanego głównie na kobietach stało się przestrzenią dla liderów – zarówno kobiet\, jak i mężczyzn – którzy chcą wzmacniać swój wpływ\, odpowiedzialność i humanistyczne podejście w biznesie. \nZałożycielka i liderka Forum\, Beata Trochymiak\, zaprasza społeczność logistyczną na czerwcowe spotkanie\, którego celem jest budowanie wartościowych relacji przywódczych. \nO Forum\nNowa edycja opiera się na idei „Co-Relations” – wzmacniania przywództwa nie poprzez podziały\, lecz poprzez współpracę i relacje. \nW świecie pełnym niepewności i ciągłych zmian Forum tworzy silną\, zaangażowaną społeczność\, która aktywnie kształtuje przyszłość logistyki – nie tylko w Polsce\, ale również na arenie międzynarodowej. \nTegoroczny motyw przewodni podkreśla: \n\nprzywództwo oparte na autentyczności i wartościach\nwspółpracę zamiast rywalizacji\nwzmacnianie sprawczości i odpowiedzialności\nodkrywanie potencjału poprzez relacje\nbudowanie siły przywództwa „z serca”\n\nForum zachęca uczestników do wyjścia poza tradycyjne schematy i odkrywania nowych perspektyw dotyczących liderstwa i przyszłości branży. \nDla kogo jest to wydarzenie?\nWydarzenie jest skierowane do: \n\nkobiet i mężczyzn pełniących role liderskie w logistyce i łańcuchu dostaw\ndyrektorów i menedżerów\, którzy kształtują kulturę organizacyjną\nprofesjonalistów poszukujących rozwoju osobistego i liderskiego\nliderów branży wierzących w współpracę zamiast podziałów\n\nCo wyróżnia to Forum?\n✔ silna i zaangażowana społeczność liderów logistyki\n✔ rozwojowa i refleksyjna atmosfera\n✔ warsztaty i interaktywne sesje (Leadership Co-Relations Workshops)\n✔ wymiana doświadczeń między branżami i pokoleniami\n✔ wspierające środowisko bez oceniania i podziałów \nMisja\nOd ponad dekady Women in Logistics Forum przyczynia się do realnych zmian w branży logistycznej. 14. edycja poszerza tę perspektywę\, zapraszając liderów do: \n\nłączenia zamiast dzielenia\,\nwzmacniania zamiast konkurowania\,\nrozwoju razem\, a nie w pojedynkę.\n\nRazem można osiągnąć więcej. \n14. Women in Logistics Forum – Leadership Co-Relations to coś więcej niż konferencja.\nTo przestrzeń dialogu\, rozwoju i świadomego przywództwa w szybko zmieniającym się świecie.
URL:https://procurewise.pl/event/forum-kobiet-w-logistyce/
LOCATION:Twoja Stocznia\, Elektryków 4\, Gdańsk\, 80-863\, Poland
CATEGORIES:Cyfryzacja,Logistyka,Networking
ATTACH;FMTTYPE=image/png:https://procurewise.pl/wp-content/uploads/2025/02/Grafika-wydarzenia-55.png
END:VEVENT
BEGIN:VEVENT
DTSTART;VALUE=DATE:20260611
DTEND;VALUE=DATE:20260612
DTSTAMP:20260421T132613
CREATED:20251228T173326Z
LAST-MODIFIED:20251228T173326Z
UID:22992998-1781136000-1781222399@procurewise.pl
SUMMARY:e-Commerce Day by Kaufland
DESCRIPTION:Kaufland e-Commerce Day 2026 to jedno z najważniejszych wydarzeń branżowych poświęconych handlowi internetowemu w Europie. Konferencja i targi odbędą się 11 czerwca 2026 roku w Kolonii (Niemcy) i są organizowane przez Kaufland. \nCzym jest e-Commerce Day?\nTo połączenie targów branżowych\, konferencji eksperckiej oraz przestrzeni networkingowej\, stworzone z myślą o osobach aktywnie działających w e-commerce: sprzedawcach online\, producentach\, dostawcach technologii i usług oraz partnerach marketplace’ów. \nNajważniejsze informacje\n\n100 wystawców\n30 prelekcji\n3 sceny tematyczne\nok. 2 000 uczestników\n\nUczestnicy mogą liczyć na: \n\ninspirujące wystąpienia ekspertów i praktyków rynku\,\nprezentacje trendów i innowacyjnych rozwiązań\,\nmasterclassy o charakterze praktycznym\,\nliczne okazje do nawiązywania wartościowych relacji biznesowych.\n\nLokalizacja\nWydarzenie odbędzie się w wyjątkowym miejscu – RheinEnergieSTADION w Kolonia\, co zapewnia nie tylko profesjonalną infrastrukturę\, ale również unikalną atmosferę sprzyjającą networkingowi. \nNetworking i wydarzenia towarzyszące\n\nBeach BBQ – wieczorne spotkanie networkingowe dzień przed konferencją\nAfter-show party – nieformalne zakończenie wydarzenia po targach\n\nTo doskonała okazja\, aby w luźnej atmosferze poznać nowych partnerów biznesowych i wzmocnić istniejące relacje. \nDla kogo?\n\nsprzedawcy e-commerce i właściciele sklepów internetowych\,\nproducenci i marki\,\ndostawcy technologii\, logistyki i usług dla e-commerce\,\neksperci marketplace’ów i handlu międzynarodowego.\n\nKaufland e-Commerce Day 2026 to wydarzenie obowiązkowe dla wszystkich\, którzy chcą rozwijać sprzedaż online\, być na bieżąco z trendami oraz realnie skalować swój biznes e-commerce.
URL:https://procurewise.pl/event/e-commerce-day-by-kaufland/
LOCATION:Cologne\, Germany
CATEGORIES:Cyfryzacja,e-Commerce,Handel,Marketing,Networking
ATTACH;FMTTYPE=image/png:https://procurewise.pl/wp-content/uploads/2025/12/Grafika-wydarzenia-16.png
END:VEVENT
BEGIN:VEVENT
DTSTART;VALUE=DATE:20260616
DTEND;VALUE=DATE:20260618
DTSTAMP:20260421T132613
CREATED:20250520T120813Z
LAST-MODIFIED:20251228T173922Z
UID:22992466-1781568000-1781740799@procurewise.pl
SUMMARY:eTail UK 2026
DESCRIPTION:eTail to prestiżowa\, międzynarodowa konferencja poświęcona rozwojowi e-commerce i nowoczesnego retailu\, która odbędzie się 16–17 czerwca 2026 r. w Emirates Old Trafford w Manchesterze. To wydarzenie stworzone z myślą o liderach handlu cyfrowego\, marketingu\, technologii oraz analityki\, którzy chcą realnie przyspieszyć wzrost swoich organizacji i własnych karier. \neTail łączy strategiczne treści wysokiej jakości\, praktyczne warsztaty oraz silny networking oparty na wymianie doświadczeń między rówieśnikami. Uczestnicy biorą udział w szczerych dyskusjach\, sesjach mastermind\, roundtable’ach problemowych oraz spotkaniach 1:1\, z których wychodzą z konkretnymi\, gotowymi do wdrożenia rozwiązaniami. \nWydarzenie gromadzi liderów retailu i e-commerce z całego świata – założycieli marek\, dyrektorów eCommerce\, CMO\, CTO\, VP i Headów – reprezentujących zarówno globalne korporacje\, jak i dynamicznie rosnące marki DTC. Prelegenci dzielą się realnymi case studies\, aktualnymi danymi rynkowymi oraz sprawdzonymi strategiami dotyczącymi m.in.: \n\nwzrostu sprzedaży online\,\ntransformacji cyfrowej\,\nanalityki i danych\,\nmarketingu i SEO\,\ndoświadczenia klienta (CX)\,\nskalowania biznesu w omnichannelu.\n\neTail to nie tylko konferencja\, ale społeczność retailowa działająca przez cały rok. Organizatorzy budują ekosystem spotkań\, treści online\, raportów i wydarzeń\, który wspiera uczestników także po zakończeniu konferencji stacjonarnej. \nDzięki starannie dobranej strukturze uczestników (managerowie\, dyrektorzy i C-level) oraz kameralnym formatom spotkań\, eTail oferuje wysoką wartość merytoryczną i biznesową\, czyniąc go jednym z najważniejszych wydarzeń e-commerce w Europie.
URL:https://procurewise.pl/event/etail-uk/
LOCATION:Queen Elizabeth II Centre\, Broad Sanctuary\, London\, SW1P 3EE
CATEGORIES:e-Commerce,Handel Detaliczny,Marketing,Networking
ATTACH;FMTTYPE=image/png:https://procurewise.pl/wp-content/uploads/2025/05/Grafika-wydarzenia-17.png
END:VEVENT
BEGIN:VEVENT
DTSTART;VALUE=DATE:20260904
DTEND;VALUE=DATE:20260905
DTSTAMP:20260421T132613
CREATED:20241220T184736Z
LAST-MODIFIED:20251228T184354Z
UID:22990477-1788480000-1788566399@procurewise.pl
SUMMARY:Konferencja Lunch z e-commerce 2026
DESCRIPTION:Konferencja Lunch z e-commerce – X Jubileuszowa Edycja to wyjątkowe wydarzenie branżowe skierowane do profesjonalistów rynku e-commerce\, organizowane przez agencję Ideo Force. Jubileuszowa edycja odbędzie się 4 września 2026 roku w Warszawie (ul. Jutrzenki 135) i potrwa w godzinach 9:00–17:00. \nKonferencja stanowi przestrzeń spotkań dla właścicieli sklepów internetowych\, kadry zarządzającej\, prezesów\, managerów e-commerce oraz praktyków e-biznesu\, którzy chcą rozwijać sprzedaż online\, podążać za trendami i wdrażać skuteczne strategie digitalowe. Wydarzenie łączy 100% praktycznej\, aktualnej wiedzy z inspirującymi prelekcjami oraz intensywnym networkingiem. \nUczestnicy konferencji mogą liczyć na: \n\nwystąpienia czołowych ekspertów e-commerce i digital marketingu\,\nkonkretne case studies i sprawdzone praktyki marek odnoszących sukcesy w handlu online\,\nwiedzę z obszarów takich jak m.in. maksymalizacja zysków e-commerce\, optymalizacja konwersji\, customer experience\, marketing automation\, AI\, logistyka\, social media marketing oraz leadership\,\nmerytoryczne\, motywujące prelekcje\, które rzucają nowe światło na prowadzenie e-biznesu\,\nrozbudowaną strefę networkingu\, sprzyjającą wymianie doświadczeń i nawiązywaniu wartościowych relacji biznesowych.\n\nKonferencja Lunch z e-commerce to wydarzenie z ugruntowaną pozycją na rynku: \n\n9 edycji konferencji\,\n80+ ekspertów na scenie\,\n1300+ uczestników\,\n250+ partnerów wydarzenia\,\n1200+ rozmów networkingowych.\n\nNa scenie poprzednich edycji gościli m.in. liderzy biznesu\, menedżerowie największych marek oraz inspirujące osobowości ze świata sportu i technologii. Jubileuszowa\, dziesiąta edycja zapowiada się jako jeszcze bardziej merytoryczna\, inspirująca i nastawiona na realną wartość biznesową. \nKonferencja Lunch z e-commerce to idealne miejsce\, by zdobyć wiedzę\, która działa w praktyce\, oraz zbudować relacje\, które procentują w rozwoju e-biznesu.
URL:https://procurewise.pl/event/konferencja-lunch-z-e-commerce/
LOCATION:Jutrzenki Warszawa\, Jutrzenki 135\, Warsaw\, 02-231\, Poland
CATEGORIES:e-Commerce,Handel,Handel Detaliczny,Networking
ATTACH;FMTTYPE=image/png:https://procurewise.pl/wp-content/uploads/2024/12/Grafika-wydarzenia-19-1.png
END:VEVENT
BEGIN:VEVENT
DTSTART;VALUE=DATE:20260922
DTEND;VALUE=DATE:20260924
DTSTAMP:20260421T132613
CREATED:20250214T122843Z
LAST-MODIFIED:20251229T185339Z
UID:22991486-1790035200-1790207999@procurewise.pl
SUMMARY:IMPA London 2026
DESCRIPTION:IMPA London 2026 to najważniejsze międzynarodowe wydarzenie branży morskiej skoncentrowane na łańcuchu dostaw\, które odbędzie się w dniach 22–23 września 2026 roku w QEII Centre w Westminsterze\, Londyn. \nTo prestiżowe spotkanie z ponad 40-letnią tradycją\, organizowane przez International Marine Purchasing Association (IMPA)\, co roku gromadzi kluczowych decydentów ze świata żeglugi – armatorów\, operatorów flot\, menedżerów zakupów – oraz dostawców i producentów rozwiązań dla sektora morskiego z ponad 60 krajów. \nCharakter wydarzenia\nIMPA London 2026 łączy w sobie: \n\nrozbudowaną strefę wystawienniczą\,\nbogaty program merytoryczny (sesje edukacyjne\, panele dyskusyjne)\,\nwydarzenia towarzyszące i networkingowe\, sprzyjające realnym rozmowom biznesowym.\n\nCałość odbywa się w charakterystycznej dla IMPA atmosferze – profesjonalnej\, ale jednocześnie sprzyjającej otwartej wymianie doświadczeń i budowaniu długofalowych relacji. \nDla kogo?\nWydarzenie skierowane jest do: \n\nprofesjonalnych kupców i menedżerów zakupów w branży morskiej\,\narmatorów i operatorów statków\,\nproducentów i dostawców dla sektora maritime\,\nfirm logistycznych i usługowych obsługujących żeglugę\,\norganizacji branżowych i instytucji wspierających sektor morski.\n\nDlaczego warto wziąć udział?\n\nbezpośredni dostęp do najważniejszych decydentów zakupowych w branży morskiej\,\nmożliwość nawiązania międzynarodowych kontaktów biznesowych\,\naktualna wiedza o trendach\, wyzwaniach i innowacjach w maritime supply chain\,\nwysoka jakość uczestników i duża ilość czasu przeznaczonego na networking\,\nmożliwość udziału jako wystawca lub sponsor w jednym z najbardziej rozpoznawalnych wydarzeń branżowych na świecie.\n\nIMPA London 2026 to centralny punkt spotkań globalnej społeczności zakupowej sektora morskiego – wydarzenie obowiązkowe dla firm i liderów\, którzy chcą aktywnie uczestniczyć w kształtowaniu przyszłości maritime supply chain.
URL:https://procurewise.pl/event/impa-london/
LOCATION:Queen Elizabeth II Conference Centre\, Broad Sanctuary\, London\, SW1P 3EE
CATEGORIES:Cyfryzacja,Łańcuch Dostaw,Networking,Procurement
ATTACH;FMTTYPE=image/jpeg:https://procurewise.pl/wp-content/uploads/2025/02/Grafika-wydarzenia-50.jpg
END:VEVENT
BEGIN:VEVENT
DTSTART;VALUE=DATE:20261020
DTEND;VALUE=DATE:20261022
DTSTAMP:20260421T132613
CREATED:20260218T105027Z
LAST-MODIFIED:20260218T105027Z
UID:22993421-1792454400-1792627199@procurewise.pl
SUMMARY:XII Polski Kongres Przedsiębiorczości
DESCRIPTION:Kongres od lat tworzy platformę realnego dialogu pomiędzy biznesem\, administracją i nauką. Dzięki obecności osób zajmujących najwyższe stanowiska w swoich instytucjach\, wypracowane podczas debat rozwiązania mają szansę zostać przełożone na praktyczne działania. \nW centrum rozmów znajdują się: \n\nrozwój gospodarczy\,\ninwestycje i innowacje\,\nwspółpraca biznesu z administracją\,\nkomercjalizacja badań i projektów\,\nwyzwania polskiej i światowej gospodarki.\n\nRada Programowa\nW skład Rady Programowej XII edycji wchodzą m.in.: \n\nWojciech Pomarański – Prezes Zarządu\, Polska Agencja Przedsiębiorczości\nJacek Sutryk – Prezydent Wrocławia\nMarcin Urban – Skarbnik Wrocławia\nMichał Rado – Wicemarszałek Województwa Dolnośląskiego\nCezary Pacamaj – Wiceprezes Zarządu\, Port Lotniczy Wrocław S.A.\nKrzysztof Kubiak – Rektor Uniwersytetu Przyrodniczego we Wrocławiu\n\nProgram wydarzenia\n🔹 Inauguracja\n20 października o godz. 10:00 odbędzie się uroczyste otwarcie Kongresu – wydarzenie o wyjątkowej oprawie\, które nada ton całemu spotkaniu. \n🔹 Panele dyskusyjne\nW programie znajdą się m.in. konferencje: \n\n„Sukces w szpilkach”\n„Prawo do biznesu”\n„Medycyna jutra”\n\nPanele odbywać się będą w dniach 20–21 października w godz. 11:00–16:00. \n🔹 Strefa wystawiennicza i targi pracy\nFirmy\, instytucje oraz uczelnie zaprezentują swoją ofertę w przestrzeni wystawienniczej. W ramach targów pracy uczestnicy będą mogli zapoznać się z aktualnymi ofertami i porozmawiać z potencjalnymi pracodawcami. \n🔹 Gala finałowa\nWyjątkowe zwieńczenie Kongresu połączone z uroczystym podsumowaniem. Wieczór uświetnią występy: \n\nAnia Dąbrowska\nCzesław Mozil\n\nSkala wydarzenia\nPoprzednia edycja Kongresu zgromadziła: \n\nponad 30 paneli dyskusyjnych\,\nok. 200 prelegentów\,\nniemal 3000 uczestników\,\nblisko 200 wyróżnionych podmiotów\,\nkilkanaście tysięcy widzów online.\n\nWśród uczestników i gości poprzednich edycji znaleźli się m.in.: \n\nAndrzej Duda – Prezydent RP\nSzymon Hołownia – Marszałek Sejmu RP\nKrzysztof Gawkowski – Wicepremier\, Minister Cyfryzacji\n\nDlaczego warto?\n✔ Bezpośredni kontakt z liderami biznesu i administracji\n✔ Możliwość nawiązania długofalowych relacji\n✔ Aktualne tematy gospodarcze i regulacyjne\n✔ Inspirujące debaty i interdyscyplinarne spojrzenie na rozwój \nPolski Kongres Przedsiębiorczości od lat realnie wpływa na działania przedsiębiorców\, naukowców i samorządowców\, wspierając rozwój gospodarczy oraz wdrażanie innowacyjnych rozwiązań.
URL:https://procurewise.pl/event/polski-kongres-przedsiebiorczosci/
LOCATION:Hala Stulecia\, Wystawowa 1\, Wrocław\, 51-618\, Poland
CATEGORIES:Ekonomia,Managment,Networking
ATTACH;FMTTYPE=image/png:https://procurewise.pl/wp-content/uploads/2026/02/Grafika-wydarzenia-34.png
END:VEVENT
BEGIN:VEVENT
DTSTART;VALUE=DATE:20261022
DTEND;VALUE=DATE:20261024
DTSTAMP:20260421T132613
CREATED:20260218T101938Z
LAST-MODIFIED:20260218T101938Z
UID:22993415-1792627200-1792799999@procurewise.pl
SUMMARY:Konferencja Okiem Kupca
DESCRIPTION:Konferencja Zakupowa „Okiem Kupca” to nowe\, merytoryczne wydarzenie w branży zakupowej\, stworzone z myślą o praktykach procurementu i łańcucha dostaw. To przestrzeń realnej wymiany doświadczeń\, konkretnych case studies i aktywnej pracy warsztatowej. \nCo wyróżnia Konferencję „Okiem Kupca”?\nTo nie jest kolejna „konferencja jakich wiele”. \n✔ Stawiamy na konkrety i autentyczne rozmowy\n✔ Łączymy prelekcje z praktycznymi warsztatami\n✔ Zapraszamy ekspertów z realnym doświadczeniem biznesowym\n✔ Dbamy o kameralną atmosferę i swobodny networking\n✔ Tworzymy przestrzeń do aktywnego udziału\, dyskusji i interakcji \nDla kogo?\nWydarzenie skierowane jest do: \n\nDyrektorów i Kierowników Działów Zakupów oraz Łańcucha Dostaw\nMenedżerów i konsultantów branży zakupowej\nKupców i specjalistów ds. zakupów chcących rozwijać swoje kompetencje\n\nDlaczego warto wziąć udział?\n🎓 Ucz się od najlepszych\nPrelekcje prowadzą liderzy rynku i eksperci\, którzy kształtują przyszłość procurementu. \n🛠 Rozwijaj umiejętności\nDrugi dzień to praktyczne warsztaty – nauka przez działanie\, interakcje i pracę na realnych przykładach. \n🚀 Poznaj nowości w branży\nTrendy\, innowacje i technologie wspierające procesy zakupowe oraz automatyzację pracy działów procurement. \n🤝 Nawiązuj kontakty\nNetworking\, wspólne przerwy\, lunch oraz wieczorny Power Networking. \n🔍 Zbadaj konkurencję\nPoznaj najlepsze praktyki rynkowe i sprawdzone podejścia stosowane przez innych liderów branży. \n⭐ Buduj swoją markę eksperta\nUdział w dyskusjach i warsztatach to szansa na wzmocnienie swojej pozycji zawodowej. \nProwadzący konferencję\nWydarzenie poprowadzi:\nSergiusz Ryczel – konferansjer\, mówca i trener wystąpień publicznych. \nPrelegenci\nWśród prelegentów m.in.: \n\nJacek Jarmuszczak – Trener / Konsultant\, Okiem Kupca\nŁukasz Jędraszkiewicz – Konsultant Zakupowy\, Okiem Kupca\nTomasz Zarzyka – Prezes Zarządu Xmart\nAnna Waszkiewicz – Dyrektor Departamentu Zakupów\nPaweł Czajka – Santander Bank Polska\nMateusz Borowiecki – Przedsiębiorca\, Ekspert Zakupowy\nŁukasz Mazurowski – Managing Partner Profitia\nRafał Drohojowski – trener biznesu\, gość specjalny\n\nProgram wydarzenia\n📅 22 października 2026 (czwartek)\n\n8:15–9:00 – Rejestracja\n9:00–10:30 – Prelekcje\n10:30–11:00 – Przerwa kawowa\n11:00–12:30 – Prelekcje\n12:30–13:30 – Lunch\n13:30–16:00 – Prelekcje\n16:30–20:30 – Power Networking\n\n📅 23 października 2026 (piątek)\n\n8:15–9:00 – Rejestracja\n9:00–10:30 – Warsztaty\n10:30–11:00 – Przerwa kawowa\n11:00–13:00 – Warsztaty\n13:00 – Lunch\n14:00 – Zakończenie konferencji\n\n⚠ Liczba miejsc na warsztaty jest ograniczona – obowiązuje wcześniejszy wybór jednej sesji.
URL:https://procurewise.pl/event/konferencja-okiem-kupca/
LOCATION:Warszawa\, Warszawa\, 00-901\, Poland
CATEGORIES:Łańcuch Dostaw,Networking,Procurement,Zakupy
ATTACH;FMTTYPE=image/jpeg:https://procurewise.pl/wp-content/uploads/2026/02/Grafika-wydarzenia-33.jpg
END:VEVENT
END:VCALENDAR