BEGIN:VCALENDAR
VERSION:2.0
PRODID:-//ProcureWise - ECPv6.8.2.1//NONSGML v1.0//EN
CALSCALE:GREGORIAN
METHOD:PUBLISH
X-WR-CALNAME:ProcureWise
X-ORIGINAL-URL:https://procurewise.pl
X-WR-CALDESC:Events for ProcureWise
REFRESH-INTERVAL;VALUE=DURATION:PT1H
X-Robots-Tag:noindex
X-PUBLISHED-TTL:PT1H
BEGIN:VTIMEZONE
TZID:Europe/Warsaw
BEGIN:DAYLIGHT
TZOFFSETFROM:+0100
TZOFFSETTO:+0200
TZNAME:CEST
DTSTART:20230326T010000
END:DAYLIGHT
BEGIN:STANDARD
TZOFFSETFROM:+0200
TZOFFSETTO:+0100
TZNAME:CET
DTSTART:20231029T010000
END:STANDARD
BEGIN:DAYLIGHT
TZOFFSETFROM:+0100
TZOFFSETTO:+0200
TZNAME:CEST
DTSTART:20240331T010000
END:DAYLIGHT
BEGIN:STANDARD
TZOFFSETFROM:+0200
TZOFFSETTO:+0100
TZNAME:CET
DTSTART:20241027T010000
END:STANDARD
BEGIN:DAYLIGHT
TZOFFSETFROM:+0100
TZOFFSETTO:+0200
TZNAME:CEST
DTSTART:20250330T010000
END:DAYLIGHT
BEGIN:STANDARD
TZOFFSETFROM:+0200
TZOFFSETTO:+0100
TZNAME:CET
DTSTART:20251026T010000
END:STANDARD
BEGIN:DAYLIGHT
TZOFFSETFROM:+0100
TZOFFSETTO:+0200
TZNAME:CEST
DTSTART:20260329T010000
END:DAYLIGHT
BEGIN:STANDARD
TZOFFSETFROM:+0200
TZOFFSETTO:+0100
TZNAME:CET
DTSTART:20261025T010000
END:STANDARD
END:VTIMEZONE
BEGIN:VEVENT
DTSTART;VALUE=DATE:20260311
DTEND;VALUE=DATE:20260313
DTSTAMP:20260421T192552
CREATED:20251216T104057Z
LAST-MODIFIED:20251216T104057Z
UID:22992885-1773187200-1773359999@procurewise.pl
SUMMARY:Ivalua Now 2026
DESCRIPTION:Ivalua NOW 2026 to globalne wydarzenie poświęcone przyszłości zakupów i łańcucha dostaw\, które odbędzie się 11–12 marca 2026 roku w Paryżu\, w prestiżowej lokalizacji Carrousel du Louvre. Konferencja zgromadzi ponad 1500 liderów Procurement & Supply Chain z całego świata\, tworząc unikalną przestrzeń do wymiany wiedzy\, doświadczeń i inspiracji. \nPod hasłem „Shaping New Horizons” wydarzenie koncentruje się na wyzwaniach współczesnej gospodarki – rosnącej niepewności\, protekcjonizmie oraz dynamicznym rozwoju generatywnej sztucznej inteligencji. Ivalua NOW 2026 pokazuje\, jak innowacje technologiczne i nowe modele pracy mogą pomóc organizacjom budować odporne\, zrównoważone i efektywne łańcuchy dostaw. \nW programie znajdzie się ponad 20 godzin keynote’ów\, sesji tematycznych\, demo technologicznych i wystąpień ekspertów – w tym ponad 30 uznanych liderów opinii i praktyków branży. Uczestnicy poznają realne historie transformacji\, najlepsze praktyki oraz konkretne rozwiązania możliwe do wdrożenia w swoich organizacjach. \nWydarzenie skierowane jest do liderów zakupów\, ekspertów zrównoważonego procurementu\, partnerów technologicznych\, profesjonalistów branżowych oraz przedstawicieli mediów. Całość uzupełnia silny nacisk na ESG\, m.in. zero food waste\, zrównoważoną organizację eventu i monitorowany ślad węglowy. \nIvalua NOW 2026 to dwa dni wiedzy\, innowacji\, networkingu i inspiracji – zakończonej ekskluzywnym closing party.
URL:https://procurewise.pl/event/ivalua-now/
LOCATION:Carrousel du Louvre\, 99 rue de Rivoli\, Paris\, 75001\, France
CATEGORIES:AI,B2B,Cyfryzacja,Dane,ESG,Łańcuch Dostaw,Procurement,SRM,Systemy IT,Zakupy
ATTACH;FMTTYPE=image/jpeg:https://procurewise.pl/wp-content/uploads/2025/12/Grafika-wydarzenia-1.jpg
END:VEVENT
BEGIN:VEVENT
DTSTART;VALUE=DATE:20260303
DTEND;VALUE=DATE:20260305
DTSTAMP:20260421T192552
CREATED:20250901T135111Z
LAST-MODIFIED:20250902T114503Z
UID:22992605-1772496000-1772668799@procurewise.pl
SUMMARY:Procurement & Supply Chain LIVE Sustainbility 2026
DESCRIPTION:Najważniejsze wydarzenie branży zakupów i łańcucha dostaw powraca do Londynu! W dniach 4–5 marca 2026 r. Procurement & Supply Chain LIVE Sustainability odbędzie się w prestiżowym QEII Centre\, łącząc się jednocześnie z Sustainability LIVE Net Zero. \nKonferencja i expo zgromadzi ponad 3 000 uczestników – zarówno na miejscu\, jak i online. W programie znajdzie się: \n\n50+ ekspertów z międzynarodowych organizacji\,\n10 ścieżek tematycznych\,\n4 warsztaty dla kadry zarządzającej.\n\nTematy przewodnie to m.in.: \n\ndekarbonizacja łańcucha dostaw\,\nprzyszłość strategicznego sourcingu\,\nodporność i zarządzanie ryzykiem\,\nekosystem ProcureTech\,\nsztuczna inteligencja w zakupach i logistyce\,\nzrównoważone finanse i zarządzanie wydatkami.\n\nUczestnicy poznają praktyczne strategie\, wezmą udział w dyskusjach prowadzonych przez liderów branży i nawiążą cenne kontakty wspierające rozwój odpornych\, elastycznych i zrównoważonych łańcuchów dostaw.
URL:https://procurewise.pl/event/procurement-supply-chain-live-sustainbility/
LOCATION:Queen Elizabeth II Centre\, Broad Sanctuary\, London\, SW1P 3EE
CATEGORIES:AI,B2B,Cyfryzacja,Dane,Ekonomia,ESG,Łańcuch Dostaw,Managment,Networking,Procurement,SRM,Strategia,Systemy IT,Zakupy
ATTACH;FMTTYPE=image/jpeg:https://procurewise.pl/wp-content/uploads/2025/09/Grafika-wydarzenia-7.jpg
END:VEVENT
BEGIN:VEVENT
DTSTART;VALUE=DATE:20231009
DTEND;VALUE=DATE:20231011
DTSTAMP:20260421T192552
CREATED:20231010T085700Z
LAST-MODIFIED:20231114T131632Z
UID:387-1696809600-1696982399@procurewise.pl
SUMMARY:PROCON POLZAK '23
DESCRIPTION:Dołącz do nas na konferencji PROCON POLZAK 2023 i weź udział w niepowtarzalnej okazji do nauki\, inspiracji i budowania relacji z profesjonalistami o podobnych zainteresowaniach. Przyłącz się do społeczności\, która jest gotowa na przyszłość zakupów i logistyki. Czekamy na Ciebie! \nTematy konferencji\n\nSustainability and ethical sourcing – ESG\nHI+AI digital transformation\nAgile supplier relationship management\n\n  \nDla kogo?\nWydarzenie jest kierowane do kadry zarządzającej i specjalistów odpowiedzialnych za zakupy oraz za zarządzanie łańcuchem dostaw w średnich i dużych przedsiębiorstwach.\n\nDyrektorzy generalni\nDyrektorzy\, Kierownicy Działów Zakupów\nKupcy\, specjaliści ds. Zakupów\nDyrektorzy finansowi\nDostawcy usług B2B
URL:https://procurewise.pl/event/procon-polzak-23/
LOCATION:Hilton Warsaw City\, Grzybowska 63\, Warszawa\, mazowieckie\, 00-844\, Poland
CATEGORIES:AI,Cyfryzacja,Handel,Łańcuch Dostaw,SRM
ATTACH;FMTTYPE=image/jpeg:https://procurewise.pl/wp-content/uploads/2023/10/PROCON-POLZAK-23.jpg
END:VEVENT
END:VCALENDAR