BEGIN:VCALENDAR
VERSION:2.0
PRODID:-//ProcureWise - ECPv6.8.2.1//NONSGML v1.0//EN
CALSCALE:GREGORIAN
METHOD:PUBLISH
X-ORIGINAL-URL:https://procurewise.pl
X-WR-CALDESC:Events for ProcureWise
REFRESH-INTERVAL;VALUE=DURATION:PT1H
X-Robots-Tag:noindex
X-PUBLISHED-TTL:PT1H
BEGIN:VTIMEZONE
TZID:Europe/Warsaw
BEGIN:DAYLIGHT
TZOFFSETFROM:+0100
TZOFFSETTO:+0200
TZNAME:CEST
DTSTART:20260329T010000
END:DAYLIGHT
BEGIN:STANDARD
TZOFFSETFROM:+0200
TZOFFSETTO:+0100
TZNAME:CET
DTSTART:20261025T010000
END:STANDARD
END:VTIMEZONE
BEGIN:VEVENT
DTSTART;VALUE=DATE:20260707
DTEND;VALUE=DATE:20260710
DTSTAMP:20260421T181110
CREATED:20230810T113646Z
LAST-MODIFIED:20251228T180433Z
UID:242-1783382400-1783641599@procurewise.pl
SUMMARY:ProcureCon Asia 2026
DESCRIPTION:ProcureCon Asia 2026 to jedno z najważniejszych i najbardziej prestiżowych wydarzeń w regionie Azji i Pacyfiku\, skierowane do CPO (Chief Procurement Officers) oraz liderów i zespołów zarządzających zakupami. Konferencja odbędzie się w dniach 7–9 lipca 2026 roku w Equarius Hotel Sentosa w Singapurze i zgromadzi setki najbardziej wpływowych decydentów odpowiedzialnych za strategię zakupową w największych organizacjach regionu. \nProcureCon Asia koncentruje się na transformacji zakupów – od funkcji nastawionej głównie na kontrolę kosztów do strategicznego filaru rozwoju biznesu. Uczestnicy wspólnie analizują\, jak wykorzystać AI\, dane\, zrównoważony rozwój\, innowacje oraz współpracę z dostawcami\, aby budować odporne\, elastyczne i przyszłościowe modele procurementu. \nWydarzenie oferuje: \n\ninspirujące prelekcje i studia przypadków prezentowane przez liderów zakupów z globalnych firm\,\ninteraktywne formaty\, takie jak roundtables\, warsztaty\, boardroomy i sesje benchmarkingowe\,\nwyjątkowe możliwości networkingu w gronie CPO\, dyrektorów zakupów i liderów transformacji\,\ndostęp do merytorycznego\, starannie zaprojektowanego programu opartego na dziesiątkach wywiadów badawczych z liderami rynku.\n\nProcureCon Asia wyróżnia się kameralnym\, ale bardzo decyzyjnym profilem uczestników oraz naciskiem na praktyczne wnioski\, wymianę doświadczeń i realny wpływ na strategię organizacji. To wydarzenie dla tych\, którzy chcą nie tylko nadążać za zmianami\, ale aktywnie kształtować przyszłość zakupów w swoich firmach. \nProcureCon Asia 2026 to miejsce\, gdzie procurement zyskuje realną moc wpływu\, a liderzy wracają z konkretnymi pomysłami\, kontaktami i narzędziami do wdrożenia tu i teraz.
URL:https://procurewise.pl/event/procurecon-asia/
LOCATION:Equarius Hotel\, 8 Sentosa Gateway\, Singapore\, 098269\, Singapore
CATEGORIES:ESG,SRM,Zakupy
ATTACH;FMTTYPE=image/jpeg:https://procurewise.pl/wp-content/uploads/2023/08/ProcureCon-Asia-2024.jpg
END:VEVENT
END:VCALENDAR