BEGIN:VCALENDAR
VERSION:2.0
PRODID:-//ProcureWise - ECPv6.8.2.1//NONSGML v1.0//EN
CALSCALE:GREGORIAN
METHOD:PUBLISH
X-WR-CALNAME:ProcureWise
X-ORIGINAL-URL:https://procurewise.pl
X-WR-CALDESC:Events for ProcureWise
REFRESH-INTERVAL;VALUE=DURATION:PT1H
X-Robots-Tag:noindex
X-PUBLISHED-TTL:PT1H
BEGIN:VTIMEZONE
TZID:Europe/Warsaw
BEGIN:DAYLIGHT
TZOFFSETFROM:+0100
TZOFFSETTO:+0200
TZNAME:CEST
DTSTART:20240331T010000
END:DAYLIGHT
BEGIN:STANDARD
TZOFFSETFROM:+0200
TZOFFSETTO:+0100
TZNAME:CET
DTSTART:20241027T010000
END:STANDARD
BEGIN:DAYLIGHT
TZOFFSETFROM:+0100
TZOFFSETTO:+0200
TZNAME:CEST
DTSTART:20250330T010000
END:DAYLIGHT
BEGIN:STANDARD
TZOFFSETFROM:+0200
TZOFFSETTO:+0100
TZNAME:CET
DTSTART:20251026T010000
END:STANDARD
BEGIN:DAYLIGHT
TZOFFSETFROM:+0100
TZOFFSETTO:+0200
TZNAME:CEST
DTSTART:20260329T010000
END:DAYLIGHT
BEGIN:STANDARD
TZOFFSETFROM:+0200
TZOFFSETTO:+0100
TZNAME:CET
DTSTART:20261025T010000
END:STANDARD
END:VTIMEZONE
BEGIN:VEVENT
DTSTART;VALUE=DATE:20260331
DTEND;VALUE=DATE:20260402
DTSTAMP:20260421T160104
CREATED:20251224T215453Z
LAST-MODIFIED:20251230T203521Z
UID:22992931-1774915200-1775087999@procurewise.pl
SUMMARY:eTail Benelux Connect 2026
DESCRIPTION:eTail Connect Benelux 2026 to ekskluzywne\, zamknięte wydarzenie typu invite-only\, skierowane do najwyższej kadry zarządzającej retail i e-commerce\, które odbędzie się w dniach 31 marca – 1 kwietnia 2026 roku w hotelu Park Inn by Radisson Amsterdam City West. \nTo kameralne forum zostało zaprojektowane z myślą o senior liderach eCommerce\, digital marketingu i customer experience\, którzy chcą rozwijać swoje organizacje w oparciu o realne doświadczenia\, sprawdzone strategie i bezpośrednią wymianę wiedzy z innymi decydentami rynku. Uczestnictwo możliwe jest wyłącznie na zaproszenie\, co gwarantuje wysoki poziom merytoryczny oraz jakość rozmów. \nProgram eTail Connect opiera się na formule zamkniętych dyskusji\, praktycznych case studies oraz dialogu peer-to-peer\, bez scenicznego „show” i sprzedażowych prezentacji. Wydarzenie koncentruje się na tematach kluczowych dla wzrostu i innowacji w retailu i omnichannel\, takich jak transformacja cyfrowa\, analityka\, customer experience\, lojalność\, agile\, e-commerce oraz skalowanie biznesu. \nJednym z najważniejszych elementów wydarzenia są wcześniej zaplanowane spotkania 1:1\, dopasowane do realnych potrzeb uczestników. Dzięki temu liderzy retailu mogą w krótkim czasie nawiązać wartościowe relacje z odpowiednimi partnerami technologicznymi i skutecznie pracować nad konkretnymi wyzwaniami biznesowymi. \neTail Connect Benelux 2026 to także przestrzeń do pogłębionych rozmów\, budowania zaufanych relacji i tworzenia społeczności liderów\, którzy mierzą się z podobnymi wyzwaniami rynkowymi. To wydarzenie dla tych\, którzy cenią jakość ponad skalę\, konkret ponad teorię oraz relacje\, które realnie przekładają się na rozwój biznesu.
URL:https://procurewise.pl/event/etail-benelux-connect/
LOCATION:Park Inn by Radisson Amsterdam City West\, La Guardiaweg 59\, Amsterdam\, 1043 DE\, Netherlands
CATEGORIES:e-Commerce,Handel,Managment,Marketing,Networking,Strategia
ATTACH;FMTTYPE=image/png:https://procurewise.pl/wp-content/uploads/2025/12/Grafika-wydarzenia-6.png
END:VEVENT
BEGIN:VEVENT
DTSTART;VALUE=DATE:20260325
DTEND;VALUE=DATE:20260327
DTSTAMP:20260421T160104
CREATED:20251128T214056Z
LAST-MODIFIED:20251128T214056Z
UID:22992862-1774396800-1774569599@procurewise.pl
SUMMARY:Webwinkel Vakdagen
DESCRIPTION:WWV od ponad 18 lat stanowi najważniejszą platformę spotkań całej branży e-commerce. To właśnie tutaj specjaliści z marketingu\, retailu\, logistyki i pokrewnych dziedzin zdobywają wiedzę\, nawiązują wartościowe kontakty oraz odkrywają najnowsze rozwiązania i narzędzia wspierające rozwój biznesu online. \nW 2026 roku wydarzenie ponownie zgromadzi: \n\n200 inspirujących prelegentów\,\n270 wystawców\,\noraz tysiące profesjonalistów gotowych na wymianę doświadczeń i pomysłów.\n\nUczestnicy mogą liczyć na praktyczne wskazówki\, nowe spojrzenie na trendy rynkowe oraz konkretne tipy i triki\, które pomogą im pracować szybciej\, skuteczniej i bardziej innowacyjnie. \nCo czeka na uczestników?\n\nInspirujące wykłady prowadzone przez liderów branży digital commerce\nNowi partnerzy i innowacyjne rozwiązania wspierające rozwój e-biznesu\nNetworking – idealna okazja do budowania relacji i poznania ekspertów\nDarmowy wstęp – rejestracja na wydarzenie jest bezpłatna\n\nDla kogo jest WWV 2026?\nDla każdego\, kto działa w obszarach takich jak: \n\nmarketing\,\nlogistyka\,\nretail\,\nsprzedaż internetowa\,\ntechnologia e-commerce\,\noraz wszystkie dziedziny wspierające cyfrową transformację przedsiębiorstw.\n\nJeśli chcesz być na bieżąco z tym\, co kształtuje przyszłość handlu cyfrowego – tego wydarzenia nie możesz przegapić!
URL:https://procurewise.pl/event/webwinkel-vakdagen/
LOCATION:Koninklijke Jaarbeurs beurs- en congresgebouw\, Jaarbeursplein 6\, Utrecht\, 3521 AL\, Netherlands
CATEGORIES:Cyfryzacja,Dane,e-Commerce,Handel,Łańcuch Dostaw,Logistyka,Marketing,Networking,Strategia,Systemy IT
ATTACH;FMTTYPE=image/png:https://procurewise.pl/wp-content/uploads/2025/11/Grafika-wydarzenia-4.png
END:VEVENT
BEGIN:VEVENT
DTSTART;VALUE=DATE:20260324
DTEND;VALUE=DATE:20260327
DTSTAMP:20260421T160104
CREATED:20251230T202146Z
LAST-MODIFIED:20251230T202146Z
UID:22993092-1774310400-1774569599@procurewise.pl
SUMMARY:ShopTalk Spring
DESCRIPTION:Retail zmienia się szybciej niż kiedykolwiek wcześniej. Jedni próbują nadążyć\, inni wyznaczają kierunek. Shoptalk Spring 2026 to miejsce\, w którym przyszłość handlu detalicznego staje się rzeczywistością. \nTo najważniejsze wydarzenie branży retail\, które zgromadzi ponad 10 000 liderów rynku\, 200+ prelegentów oraz tysiące innowacyjnych pomysłów\, realnie wpływających na rozwój biznesu. Konferencja łączy detalistów\, marki konsumenckie\, firmy technologiczne\, startupy\, inwestorów\, analityków oraz agencje – wszystkich\, którzy kształtują handel jutra. \nDlaczego warto wziąć udział?\n\nSpotkaj kluczowych decydentów – aż 1 na 3 uczestników to kadra C-level\, co gwarantuje dostęp do osób podejmujących strategiczne decyzje.\nUcz się od najbardziej innowacyjnych liderów – prelegenci reprezentują zarówno globalne marki i sieci handlowe\, jak i przełomowe startupy oraz dostawców technologii.\nWeź udział w największym programie spotkań biznesowych na świecie – Meetup\, który podczas poprzedniej edycji wygenerował ponad 50 000 spotkań\, a 94% uczestników oceniło networking jako „dobry” lub „doskonały”.\n\nShoptalk Spring 2026 to nie tylko konferencja – to platforma wiedzy\, inspiracji i relacji biznesowych\, które definiują przyszłość handlu detalicznego.
URL:https://procurewise.pl/event/shoptalk-spring/
LOCATION:Mandalay Bay\, Las Vegas\, Las Vegas\, United States
CATEGORIES:B2B,e-Commerce,Handel,Handel Detaliczny,Managment,Marketing,Networking,Strategia
ATTACH;FMTTYPE=image/png:https://procurewise.pl/wp-content/uploads/2025/12/Grafika-wydarzenia-29.png
END:VEVENT
BEGIN:VEVENT
DTSTART;VALUE=DATE:20260313
DTEND;VALUE=DATE:20260318
DTSTAMP:20260421T160104
CREATED:20250902T121523Z
LAST-MODIFIED:20250902T121523Z
UID:22992619-1773360000-1773791999@procurewise.pl
SUMMARY:Internorga 2026
DESCRIPTION:INTERNORGA to wiodące na świecie targi branży hotelarskiej\, gastronomicznej\, piekarniczej i cukierniczej. Co roku w Hamburgu spotykają się przedstawiciele krajowego i międzynarodowego sektora HoReCa\, aby zaprezentować najnowsze produkty\, rozwiązania i innowacje dla rynku gastronomii i usług żywieniowych. \nWydarzeniu towarzyszą prestiżowe konferencje\, m.in. International Foodservice Forum czy Branchentag der Gemeinschaftsgastronomie\, a także inspirujące konkursy branżowe – INTERNORGA Future Award\, Next Chef Award oraz Deutscher Gastro-Gründerpreis. Uczestnicy mogą liczyć także na prezentacje na INTERNORGA Open Stage oraz wyjątkowe okazje do networkingu w atmosferze Afterwork Lounge OFF THE RECORD. \nTargi to przestrzeń\, gdzie odkryjesz najnowsze trendy żywnościowe\, hotelarskie i cyfrowe\, z silnym akcentem na zrównoważony rozwój i innowacyjne koncepcje. Wśród tematów przewodnich znajdą się m.in. przyszłość mrożonek w gastronomii\, ewolucja kultury kawowej\, technologie dla hoteli przyszłości czy ekologiczne rozwiązania dla branży. \nNieodłącznym elementem INTERNORGA jest także wyjątkowa lokalizacja – Hamburg Messe und Congress\, położone w samym sercu miasta. Wokół czekają hotele\, restauracje\, zakupy\, sztuka i kultura – wszystko w zasięgu spaceru\, pomiędzy Alster a Łabą. \nINTERNORGA 2026 to obowiązkowy punkt w kalendarzu dla wszystkich\, którzy chcą aktywnie kształtować przyszłość gastronomii\, hotelarstwa i usług żywieniowych.
URL:https://procurewise.pl/event/internorga/
LOCATION:Hamburg Exhibition Hall and Congress Ltd.\, Messepl. 1\, Hamburg\, 20357\, Germany
CATEGORIES:AI,B2B,Cyfryzacja,Dane,e-Commerce,Ekonomia,ESG,FMCG,Handel,HoReCa,Marketing,Networking,Strategia
ATTACH;FMTTYPE=image/png:https://procurewise.pl/wp-content/uploads/2025/09/Grafika-wydarzenia-8.png
END:VEVENT
BEGIN:VEVENT
DTSTART;VALUE=DATE:20260303
DTEND;VALUE=DATE:20260305
DTSTAMP:20260421T160104
CREATED:20251216T160108Z
LAST-MODIFIED:20251216T160844Z
UID:22992905-1772496000-1772668799@procurewise.pl
SUMMARY:HR Week Warsaw 2026
DESCRIPTION:HR Week Warsaw 2026 to jedno z najważniejszych wydarzeń HR w Polsce i Europie Środkowo-Wschodniej\, które odbędzie się 3–4 marca 2026 r. w Hilton Warsaw City w Warszawie. Pod hasłem „Re-Imagining HR: nowe pytania i scenariusze przyszłości” konferencja łączy praktyków\, liderów i ekspertów HR\, aby wspólnie eksplorować najnowsze trendy\, wyzwania oraz innowacje w obszarze zarządzania kapitałem ludzkim. \nPodczas HR Week Warsaw uczestnicy będą mieć okazję uczestniczyć w interaktywnych panelach\, inspirujących prelekcjach oraz praktycznych warsztatach\, które poruszają kluczowe tematy takie jak: przywództwo\, strategia organizacyjna\, dobrostan pracowników\, HR Tech\, employer branding\, zarządzanie talentami\, różnorodność i inkluzja oraz wykorzystanie AI w HR. \nW programie przewidziano udział ponad 50 prelegentów z doświadczeniem międzynarodowym oraz obecność 30+ wystawców\, prezentujących najnowsze narzędzia i rozwiązania HR. Oczekuje się\, że konferencja zgromadzi ponad 1 000 uczestników – specjalistów HR\, liderów biznesu oraz praktyków zainteresowanych przyszłością pracy i rozwojem organizacji. \nHR Week Warsaw to unikalna przestrzeń inspiracji\, wymiany doświadczeń oraz networkingu\, która dostarcza praktycznych rozwiązań i strategicznych insightów pomagających przekształcać role HR w dynamicznym środowisku biznesowym.
URL:https://procurewise.pl/event/hr-week-warsaw/
LOCATION:Hilton Warsaw City\, Grzybowska 63\, Warszawa\, mazowieckie\, 00-844\, Poland
CATEGORIES:AI,Cyfryzacja,Dane,HR,Strategia
ATTACH;FMTTYPE=image/jpeg:https://procurewise.pl/wp-content/uploads/2025/12/Grafika-wydarzenia-3.jpg
END:VEVENT
BEGIN:VEVENT
DTSTART;VALUE=DATE:20260303
DTEND;VALUE=DATE:20260305
DTSTAMP:20260421T160104
CREATED:20250901T135111Z
LAST-MODIFIED:20250902T114503Z
UID:22992605-1772496000-1772668799@procurewise.pl
SUMMARY:Procurement & Supply Chain LIVE Sustainbility 2026
DESCRIPTION:Najważniejsze wydarzenie branży zakupów i łańcucha dostaw powraca do Londynu! W dniach 4–5 marca 2026 r. Procurement & Supply Chain LIVE Sustainability odbędzie się w prestiżowym QEII Centre\, łącząc się jednocześnie z Sustainability LIVE Net Zero. \nKonferencja i expo zgromadzi ponad 3 000 uczestników – zarówno na miejscu\, jak i online. W programie znajdzie się: \n\n50+ ekspertów z międzynarodowych organizacji\,\n10 ścieżek tematycznych\,\n4 warsztaty dla kadry zarządzającej.\n\nTematy przewodnie to m.in.: \n\ndekarbonizacja łańcucha dostaw\,\nprzyszłość strategicznego sourcingu\,\nodporność i zarządzanie ryzykiem\,\nekosystem ProcureTech\,\nsztuczna inteligencja w zakupach i logistyce\,\nzrównoważone finanse i zarządzanie wydatkami.\n\nUczestnicy poznają praktyczne strategie\, wezmą udział w dyskusjach prowadzonych przez liderów branży i nawiążą cenne kontakty wspierające rozwój odpornych\, elastycznych i zrównoważonych łańcuchów dostaw.
URL:https://procurewise.pl/event/procurement-supply-chain-live-sustainbility/
LOCATION:Queen Elizabeth II Centre\, Broad Sanctuary\, London\, SW1P 3EE
CATEGORIES:AI,B2B,Cyfryzacja,Dane,Ekonomia,ESG,Łańcuch Dostaw,Managment,Networking,Procurement,SRM,Strategia,Systemy IT,Zakupy
ATTACH;FMTTYPE=image/jpeg:https://procurewise.pl/wp-content/uploads/2025/09/Grafika-wydarzenia-7.jpg
END:VEVENT
BEGIN:VEVENT
DTSTART;VALUE=DATE:20260216
DTEND;VALUE=DATE:20260217
DTSTAMP:20260421T160104
CREATED:20251120T145806Z
LAST-MODIFIED:20251120T150317Z
UID:22992794-1771200000-1771286399@procurewise.pl
SUMMARY:Future Retail Congress
DESCRIPTION:To konferencja poświęcona dynamicznym zmianom w świecie handlu\, gdzie technologie\, dane i nowe oczekiwania konsumentów kształtują zupełnie nowe modele działania. Wydarzenie odbędzie się 16 lutego 2026 roku w Hotelu The Westin Warsaw\, gromadząc liderów sektora retail\, e-commerce\, logistyki\, technologii i marketingu. \nW centrum uwagi znajdzie się transformacja ekosystemu handlowego – od wzmacniającej roli algorytmów i sztucznej inteligencji\, po powstawanie świadomych\, cyfrowych i wymagających konsumentów. Uczestnicy dowiedzą się\, jak marki przyszłości budują lojalność\, jak działa „konsument i jego agent AI”\, oraz jak przewidywać potrzeby klientów dzięki nowoczesnej analityce i automatyzacji. \nProgram konferencji obejmuje trzy główne obszary: \n1. Technologia – sklepy przyszłości\, omnichannel bez barier\, automatyzacja\, dane i AI\, customer experience 360°.\n2. ESG i zrównoważony rozwój – zielony retail\, circular economy\, strategie „less waste”.\n3. Zaplecze i logistyka – rewolucja operacyjna\, ostatnia mila\, efektywność magazynów i sklepów. \nWśród dotychczasowych prelegentów znaleźli się przedstawiciele takich firm jak InPost\, IKEA Retail\, VRG\, Visa\, Uber\, NielsenIQ czy Pluxee. \nKonferencji towarzyszy gala Future Retail Congress Awards\, podczas której wyróżniane są najbardziej innowacyjne firmy branży retail i e-commerce. \nTo wydarzenie dla tych\, którzy chcą zrozumieć przyszłość handlu – i aktywnie ją współtworzyć.
URL:https://procurewise.pl/event/future-retail-congress/
LOCATION:The Westin Warsaw\, al. Jana Pawła II 21\, Warszawa\, 00-854\, Poland
CATEGORIES:AI,Dane,e-Commerce,ESG,Handel,Handel Detaliczny,Łańcuch Dostaw,Marketing,Strategia
ATTACH;FMTTYPE=image/jpeg:https://procurewise.pl/wp-content/uploads/2025/11/Grafika-wydarzenia-2.jpg
END:VEVENT
BEGIN:VEVENT
DTSTART;VALUE=DATE:20260122
DTEND;VALUE=DATE:20260123
DTSTAMP:20260421T160104
CREATED:20251216T111859Z
LAST-MODIFIED:20251216T111859Z
UID:22992897-1769040000-1769126399@procurewise.pl
SUMMARY:Savant Berlin 2026
DESCRIPTION:Savant Berlin 2026 to 12. edycja prestiżowego\, butikowego wydarzenia skierowanego do liderów eCommerce\, marketingu\, digitalu oraz customer experience z regionu DACH. Konferencja odbędzie się 22 stycznia 2026 roku w eleganckim Marriott Hotel Berlin\, gromadząc ponad 250 senior managerów i decydentów reprezentujących wiodące marki\, retailerów i producentów. \nWydarzenie odbywa się pod hasłem:\n„Unlocking the Future: Strategic Innovation and Technological Advancements to Drive Profitability and Growth”\ni koncentruje się na wyzwaniach oraz szansach\, jakie stoją przed firmami działającymi na jednym z najbardziej rozwiniętych rynków eCommerce w Europie. Niemcy\, z 77% penetracją rynku eCommerce\, oferują ogromny potencjał wzrostu\, ale jednocześnie wymagają od marek doskonałego zrozumienia cyfrowych\, świadomych jakościowo i coraz bardziej wymagających konsumentów. \nProgram Savant Berlin 2026 został starannie opracowany w oparciu o dogłębną analizę lokalnego rynku. Obejmuje ponad 12 godzin merytorycznych wystąpień i dyskusji\, prowadzonych przez 30+ ekspertów z takich firm jak m.in. Zalando\, Samsung\, Meta\, Henkel\, Beiersdorf\, Douglas czy C&A. Uczestnicy poznają strategie wzrostu\, innowacje technologiczne\, zastosowania AI\, rozwój retail media\, data & platform solutions oraz najlepsze praktyki w obszarze customer experience – zarówno w modelach B2C\, jak i B2B. \nZnakiem rozpoznawczym Savant Berlin jest wysoka jakość networkingu: \n\nponad 11 godzin nawiązywania relacji\,\n120 zaplanowanych spotkań 1-to-1\,\nunikalny stosunek marek do vendorów 3:1\, który sprzyja merytorycznym rozmowom i realnej wymianie doświadczeń.\n\nSavant Berlin 2026 to wydarzenie dla liderów\, którzy chcą wyprzedzać trendy\, podejmować trafniejsze decyzje strategiczne i skutecznie rozwijać biznes eCommerce w dynamicznie zmieniającym się otoczeniu rynkowym.
URL:https://procurewise.pl/event/savant-berlin/
LOCATION:Mariott Hotel berlin\, Inge-Beisheim-Platz 1\, Berlin\, 10785\, Germany
CATEGORIES:AI,B2B,Cyfryzacja,Dane,e-Commerce,Managment,Marketing,Strategia
ATTACH;FMTTYPE=image/png:https://procurewise.pl/wp-content/uploads/2025/12/Grafika-wydarzenia-2.png
END:VEVENT
BEGIN:VEVENT
DTSTART;VALUE=DATE:20251120
DTEND;VALUE=DATE:20251122
DTSTAMP:20260421T160104
CREATED:20251012T212355Z
LAST-MODIFIED:20251012T212355Z
UID:22992727-1763596800-1763769599@procurewise.pl
SUMMARY:Data Science Summit
DESCRIPTION:Data Science Summit (DSS) to największa w Europie Środkowo-Wschodniej konferencja poświęcona danym\, sztucznej inteligencji i uczeniu maszynowemu\, gromadząca co roku ponad 2 500 uczestników z Polski i świata. Wydarzenie łączy ekspertów\, praktyków\, menedżerów oraz liderów biznesu zainteresowanych wykorzystaniem danych w organizacjach. \nKonferencji towarzyszy Data Science Expo – branżowe targi pracy i technologii\, podczas których uczestnicy mogą spotkać się z pracodawcami\, poznać aktualne oferty i wziąć udział w rozmowach rekrutacyjnych (online i onsite). \nFormuła\n📡 Online – 20 listopada 2025\nTransmisje na żywo\, sesje Q&A\, networking online oraz dostęp do specjalnie przygotowanych wykładów VoD. \n🏟️ Onsite – 21 listopada 2025\, PGE Narodowy w Warszawie\n15+ ścieżek tematycznych\, ponad 200 wystąpień\, sesje panelowe\, round tables\, networking\, strefy relaksu i VIP. \n💬 Networking i wydarzenia towarzyszące\nMatchmaking\, Preparty (20.11) i Afterparty (21.11) w topowych warszawskich lokalach. \nDla kogo\nKonferencja skierowana jest do: \n\nData Scientistów i Data Analystów\nAI/ML Developerów i Researcherów\nInżynierów Big Data / Cloud / Data Platforms\nSpecjalistów BI\, MLOps\, DataOps\nManagerów IT\, Data\, Compliance\nLiderów technologicznych: CDO\, CTO\, CIO\nWszystkich pracujących z analizą\, przetwarzaniem i wizualizacją danych\n\nTematyka DSS 2025\n\nMachine Learning\, Deep Learning\, Generative AI\, LLMs\, AI Agents\nNatural Language Processing\, Computer Vision\, Predictive Analytics\nAI Business Transformation\, Data Strategy\, MLOps\, Cloud AI\nData Governance\, Compliance\, BI & Visualization\, Big Data\nAI Security\, Ethics\, Quantum Computing\, Trends & Innovations\n\nDlaczego warto\n✅ Ponad 200 prelekcji prowadzonych przez ekspertów z Polski i zagranicy\n✅ Dostęp do nagrań z poprzednich edycji i materiałów VoD\n✅ Możliwość zdobycia certyfikatu uczestnictwa\n✅ Konkursy z nagrodami (Xbox\, Google Home Hub\, Mi Band)\n✅ Networking i wymiana doświadczeń z liderami branży\n✅ Udział w Data Science Expo i spotkaniach 1:1 z pracodawcami
URL:https://procurewise.pl/event/data-science-summit/
LOCATION:PGE Narodowy\, al. Księcia Józefa Poniatowskiego 1\, Warszawa\, 03-901\, Poland
CATEGORIES:AI,B2B,Cyfryzacja,Dane,Managment,Marketing,Networking,Strategia,Systemy IT
ATTACH;FMTTYPE=image/png:https://procurewise.pl/wp-content/uploads/2025/10/Grafika-wydarzenia.png
END:VEVENT
BEGIN:VEVENT
DTSTART;VALUE=DATE:20251016
DTEND;VALUE=DATE:20251017
DTSTAMP:20260421T160104
CREATED:20251014T101651Z
LAST-MODIFIED:20251014T101651Z
UID:22992733-1760572800-1760659199@procurewise.pl
SUMMARY:Forum Branży Kosmetycznej
DESCRIPTION:Forum Branży Kosmetycznej to jedno z najważniejszych dorocznych spotkań przedstawicieli sektora beauty w Polsce. Tegoroczna\, 13. edycja\, odbywa się pod hasłem „Czas piękna – czas zmian”\, nawiązując do wyzwań\, jakie stoją przed rynkiem kosmetycznym w dynamicznie zmieniającej się rzeczywistości gospodarczej i technologicznej. \nPolska branża kosmetyczna rozwija się w obliczu transformacji rynkowych\, zmian legislacyjnych\, nowych trendów konsumenckich i rosnącego znaczenia innowacji. Podczas Forum liderzy rynku\, eksperci\, naukowcy i przedsiębiorcy będą dyskutować o tym\, jak skutecznie budować odporność biznesu i rozwijać firmy w czasach zmian. \nDla kogo?\nW wydarzeniu weźmie udział ponad 300 uczestników – przedstawicieli handlu\, przemysłu\, usług i świata nauki. Forum przyciąga menedżerów największych firm kosmetycznych\, dystrybutorów\, detalistów\, producentów oraz ekspertów z czołowych agencji badawczych. \nDlaczego warto wziąć udział\n💡 Wiedza\, którą przełożysz na praktykę\nPrezentacje\, panele dyskusyjne i wystąpienia ekspertów pozwolą uczestnikom pogłębić wiedzę o trendach kształtujących współczesny rynek beauty – od zrównoważonego rozwoju po wpływ technologii i nowych modeli sprzedaży. \n🤝 Kontakty i networking\nForum to doskonała platforma wymiany doświadczeń i nawiązywania relacji biznesowych. Uczestnicy będą mieli okazję spotkać liderów branży\, wziąć udział w sesjach Q&A i rozszerzyć swoją sieć kontaktów o kluczowych partnerów z sektora kosmetycznego i handlu. \n🌍 Szersza perspektywa\nFBK to nie tylko konferencja – to społeczność profesjonalistów\, którzy wspólnie kształtują kierunek rozwoju polskiego rynku kosmetycznego. Dyskusje\, debaty i rozmowy w kuluarach pomogą wypracować praktyczne rozwiązania i inspiracje na przyszłość. \nFakty i liczby\n\n13. edycja wydarzenia\n1 dzień inspirujących debat i wystąpień\n30 prelegentów\n50 wystawców\n150 przedstawicieli handlu\n\nWśród partnerów i uczestników Forum znajdują się m.in.:\nAuchan\, Allegro\, Lagardere\, Cosmedica\, E.Leclerc\, Super-Pharm – liderzy rynku detalicznego i e-commerce. \nTematy przewodnie 2025\n\nTransformacja handlu tradycyjnego i e-commerce\nNowe zachowania konsumentów pokolenia Z i Alfa\nWpływ sztucznej inteligencji i automatyzacji na branżę beauty\nZrównoważony rozwój i zielona rewolucja w kosmetykach\nInnowacje produktowe i marketingowe w świecie piękna\n\nForum Branży Kosmetycznej 2025 to wyjątkowe miejsce spotkań\, inspiracji i współpracy – wydarzenie\, które łączy wiedzę\, doświadczenie i pasję do tworzenia piękna. To tutaj bije serce polskiego sektora beauty.
URL:https://procurewise.pl/event/forum-branzy-kosmetycznej/
LOCATION:Hotel Arche\, Aleja Krakowska 237/U1\, Warszawa\, Mazowieckie\, 02-180\, Poland
CATEGORIES:B2B,e-Commerce,FMCG,Handel,Marketing,Networking,Strategia
ATTACH;FMTTYPE=image/png:https://procurewise.pl/wp-content/uploads/2025/10/Grafika-wydarzenia-1.png
END:VEVENT
BEGIN:VEVENT
DTSTART;VALUE=DATE:20240409
DTEND;VALUE=DATE:20240411
DTSTAMP:20260421T160104
CREATED:20230807T183511Z
LAST-MODIFIED:20231114T124257Z
UID:122-1712620800-1712793599@procurewise.pl
SUMMARY:Poland & CEE Retail Summit 2024
DESCRIPTION:Mam przyjemność podzielić się ekscytującymi wiadomościami na temat nadchodzącej 15. edycji Poland & CEE Retail Summit planowanej na 2024 rok. Mamy fantastyczne nowości! Oprócz naszego dobrze znanego Retail Summit\, który w roku 2023 zgromadził ponad 2000 uczestników i 249 prelegentów\, z przyjemnością ogłaszamy dodanie do jednej puli wydarzeń Kongresu eRetail i European Circular Retail Congress. Wydarzenia te\, organizowane również we współpracy z European Circular Retail Foundation\, zapewnią wszystkim uczestnikom wyjątkowe i cenne doświadczenia\, ze szczególnym naciskiem na równoważony rozwój\, cyfryzację\, strategie\, współpracę detalistów z dostawcami i łańcuch dostaw. \nNaszym celem jest zapewnienie wyjątkowego spotkania\, które łączy w sobie to\, co najlepsze z wszystkich trzech wydarzeń\, z wnikliwymi dyskusjami prowadzonymi przez wiodących w branży prelegentów – starannie wybranymi managerami z sektora handlu detalicznego z Polski i krajów CEE. Jesteśmy dumni\, że możemy zgromadzić ponad 300 wiodących w branży ekspertów reprezentujących najwyższe szczeble w kraju i regionie CEE. \nAby zapewnić powodzenie tak ważnej imprezy\, niezbędne jest staranne przygotowanie. W ramach tego zaplanowaliśmy serię mniejszych spotkań przedkonferencyjnych prowadzących do wielkiego finału zaplanowanego na 9-10 kwietnia 2024 r. Wydarzenia te przygotują grunt pod to niezwykłe spotkanie gromadzące wpływowych prezesów\, ważnych dygnitarzy oraz znaczące postacie z branży handlu detalicznego. \nInauguracją podróży była przedkonferencyjna kolacja CEO Dinner\, która odbyła się 18 maja 2023 r. Obecność Lecha Wałęsy – byłego prezydenta Polski\, laureata Pokojowej Nagrody Nobla i kluczowej postaci ruchu Solidarność dodała dodatkowego prestiżu temu spotkaniu. Jego niezwykłe przywództwo i nieocenione doświadczenie posłużyły jako inspiracja dla wszystkich uczestników\, podkreślając głęboki wpływ jego działalności na Polskę i cały świat. \nByły Prezydent Polski Lech Wałęsa zaszczycił swoją obecnością 5. Przedkonferencyjną Kolację CEO Dinner\, przygotowującą grunt pod Retail Summit 2024. Był to wieczór pełen inspiracji i współpracy między wpływowymi osobami z branży. \nPo wakacyjnej przerwie\, z niecierpliwością\, oczekujemy nowej serii kolacji branżowych przygotowując grunt pod Poland & CEE Retail Summit 2024. Spotkania te zgromadzą wpływowych liderów – ekspertów w swoim fachu\, którzy będą kształtować przyszłość handlu detalicznego. We wrześniu rozpoczniemy czterema ekskluzywnymi kolacjami dla Dostawców Rozwiązań\, koncentrując się na kluczowych obszarach: zrównoważonego rozwoju\, eCommerce\, łańcuchu dostaw i cyfrowej innowacji. \n\nPo serii kolacji we wrześniu\, będziemy kontynuować w kolejnych miesiącach organizację dodatkowych kolacji dostosowanych do profesjonalistów z różnych sektorów branży detalicznej i dóbr konsumenckich. \nJesteśmy podekscytowany\, mogąc osobiście zaprosić Państwa do udziału w tych przedkonferencyjnych wydarzeniach\, a także na wyczekiwaną 15. edycję Poland & CEE Retail Summit w dniach 9-10 kwietnia 2024 r. \nŁączmy serca i umysły\, aby kształtować branżę detaliczną!
URL:https://procurewise.pl/event/poland-cee-retail-summit-2024/
LOCATION:Doubletree by Hilton Hotel & Conference Centre\, Skalnicowa 21\, Warszawa\, 04-797
CATEGORIES:Cyfryzacja,Handel Detaliczny,Łańcuch Dostaw,Strategia
ATTACH;FMTTYPE=image/jpeg:https://procurewise.pl/wp-content/uploads/2023/08/Poland-CEE-Retail-Summit-2024.jpg
END:VEVENT
END:VCALENDAR